{"text_format":"1","workbook":"xlsx","n_sheets":2,"sheets":["Score","Ark1"],"not_rendered":{"charts":0,"images":0,"macros":0,"external_links":0,"defined_names":0,"comments":0,"pivot_tables":0},"unopened":[],"bounds":{"document_bytes":16777216,"sheet_cells":100000,"rows_first":2000,"rows_last":500,"rows_between":2000,"halvings":0,"cell_chars":16384,"cell_head_chars":4096},"cells_cut":0,"cells_raw":0,"read":"whole","date_system":"1900"}

{"sheet":"Score","index":0,"n_rows":115,"n_cols":25,"rows_kept":115,"cut":false,"hidden":false,"merged":[[110,1,110,2],[111,1,111,2],[114,1,114,2],[112,1,112,2],[113,1,113,2],[3,1,3,19],[102,2,104,2],[102,3,104,3],[102,7,104,7],[102,11,104,11],[87,15,89,15],[92,2,94,2],[102,15,104,15],[107,3,107,18],[92,11,94,11],[92,15,94,15],[97,2,99,2],[97,3,99,3],[97,7,99,7],[97,11,99,11],[97,15,99,15],[92,3,94,3],[58,1,79,1],[58,2,60,2],[58,11,60,11],[92,7,94,7],[81,1,81,2],[82,1,82,2],[84,1,84,2],[86,3,86,6],[86,7,86,10],[87,1,108,1],[87,2,89,2],[87,3,89,3],[87,7,89,7],[68,11,70,11],[87,11,89,11],[58,15,60,15],[73,2,75,2],[73,3,75,3],[73,7,75,7],[73,11,75,11],[73,15,75,15],[86,11,86,14],[57,3,57,6],[57,7,57,10],[57,11,57,14],[57,15,57,18],[86,15,86,18],[68,15,70,15],[78,3,78,18],[63,2,65,2],[63,3,65,3],[63,7,65,7],[63,11,65,11],[63,15,65,15],[68,2,70,2],[68,3,70,3],[68,7,70,7],[58,3,60,3],[58,7,60,7],[53,1,53,2],[54,1,54,2],[55,1,55,2],[45,2,47,2],[45,3,47,3],[45,7,47,7],[30,1,51,1],[30,2,32,2],[30,7,32,7],[40,2,42,2],[35,2,37,2],[35,3,37,3],[35,7,37,7],[35,11,37,11],[35,15,37,15],[45,11,47,11],[45,15,47,15],[50,3,50,18],[16,11,18,11],[16,15,18,15],[29,3,29,6],[29,7,29,10],[29,11,29,14],[29,15,29,18],[30,3,32,3],[40,3,42,3],[40,7,42,7],[40,11,42,11],[40,15,42,15],[30,11,32,11],[30,15,32,15],[11,2,13,2],[11,3,13,3],[11,7,13,7],[11,11,13,11],[11,15,13,15],[16,2,18,2],[16,3,18,3],[16,7,18,7],[1,7,1,9],[1,13,1,15],[6,1,27,1],[6,2,8,2],[6,3,8,3],[6,7,8,7],[6,11,8,11],[6,15,8,15],[21,2,23,2],[21,3,23,3],[21,7,23,7],[21,11,23,11],[5,3,5,6],[5,7,5,10],[5,11,5,14],[5,15,5,18],[21,15,23,15],[26,3,26,18]]}
[]
[null,"Antal vinde:",null,null,null,null,"Dato:",null,null,null,null,"Klokkeslæt:"]
[]
[null,"Mahjong ScoreCard"]
[]
[null,null,"Zero","East",null,null,null,"South",null,null,null,"West",null,null,null,"North",null,null,null,"Kontrol"]
[null,"East Round",null,1,"WinHand","Win/Lose","Total",2,"WinHand","Win/Lose","Total",3,"WinHand","Win/Lose","Total",4,"WinHand","Win/Lose","Total",{"$f":"IF(COUNTIF(U7:X7,TRUE)>1,\"Fejl! (Feed)\",\"\")","v":""},{"$f":"E8","v":false},{"$f":"I8","v":false},{"$f":"M8","v":false},{"$f":"Q8","v":false},{"$f":"IF(E9<>\"\",$D$6,IF(I9<>\"\",$H$6,IF(M9<>\"\",$L$6,IF(Q9<>\"\",$P$6,\"I. S\"))))","v":"I. S"}]
[null,null,null,null,false,null,null,null,false,null,null,null,false,null,null,null,false,null,null,{"$f":"IF(SUM(U9:X9)>1,\"Fejl! (Wins)\",\"\")","v":""},{"$f":"E9","v":0},{"$f":"I9","v":0},{"$f":"M9","v":0},{"$f":"Q9","v":0},{"$f":"IF(E8,$D$6,IF(I8,$H$6,IF(M8,$L$6,IF(Q8,$P$6,\"Selvtræk\"))))","v":"Selvtræk"}]
[null,null,null,null,null,{"$f":"IF(AND($E9=\"\",$I9=\"\",$M9=\"\",$Q9=\"\"),\"\",IF(E9<>\"\",IF($Y8=\"Selvtræk\",(E9+8)*3,E9+24),IF(OR($E8,$I8,$M8,$Q8),IF(E8=TRUE,(SUM($U8:$X8)+8)*(-1),-8),(SUM($U8:$X8)+8)*(-1))))","v":""},{"$f":"IF(AND($E9=\"\",$I9=\"\",$M9=\"\",$Q9=\"\"),IF($C10,0,\"N. P.\"),IF(E9>0,IF(OR($E8,$I8,$M8,$Q8),E9+24,(E9+8)*3),F9))","v":"N. P."},null,null,{"$f":"IF(AND($E9=\"\",$I9=\"\",$M9=\"\",$Q9=\"\"),\"\",IF(I9<>\"\",IF($Y8=\"Selvtræk\",(I9+8)*3,I9+24),IF(OR($E8,$I8,$M8,$Q8),IF(I8=TRUE,(SUM($U8:$X8)+8)*(-1),-8),(SUM($U8:$X8)+8)*(-1))))","v":""},{"$f":"IF(AND($E9=\"\",$I9=\"\",$M9=\"\",$Q9=\"\"),IF($C10,0,\"N. P.\"),IF(I9>0,IF(OR($E8,$I8,$M8,$Q8),I9+24,(I9+8)*3),J9))","v":"N. P."},null,null,{"$f":"IF(AND($E9=\"\",$I9=\"\",$M9=\"\",$Q9=\"\"),\"\",IF(M9<>\"\",IF($Y8=\"Selvtræk\",(M9+8)*3,M9+24),IF(OR($E8,$I8,$M8,$Q8),IF(M8=TRUE,(SUM($U8:$X8)+8)*(-1),-8),(SUM($U8:$X8)+8)*(-1))))","v":""},{"$f":"IF(AND($E9=\"\",$I9=\"\",$M9=\"\",$Q9=\"\"),IF($C10,0,\"N. P.\"),IF(M9>0,IF(OR($E8,$I8,$M8,$Q8),M9+24,(M9+8)*3),N9))","v":"N. P."},null,null,{"$f":"IF(AND($E9=\"\",$I9=\"\",$M9=\"\",$Q9=\"\"),\"\",IF(Q9<>\"\",IF($Y8=\"Selvtræk\",(Q9+8)*3,Q9+24),IF(OR($E8,$I8,$M8,$Q8),IF(Q8=TRUE,(SUM($U8:$X8)+8)*(-1),-8),(SUM($U8:$X8)+8)*(-1))))","v":""},{"$f":"IF(AND($E9=\"\",$I9=\"\",$M9=\"\",$Q9=\"\"),IF($C10,0,\"N. P.\"),IF(Q9>0,IF(OR($E8,$I8,$M8,$Q8),Q9+24,(Q9+8)*3),R9))","v":"N. P."},{"$f":"IF(SUM(U8:X8)>0,CONCATENATE(\"Chksum: \",F9+J9+N9+R9),\"\")","v":""},{"$f":"IF(U8>0,1,0)","v":0},{"$f":"IF(V8>0,1,0)","v":0},{"$f":"IF(W8>0,1,0)","v":0},{"$f":"IF(X8>0,1,0)","v":0}]
[null,null,false,null,{"$f":"IF(OR(AND(E8=TRUE,E9>0),AND(I8=TRUE,I9>0),AND(M8=TRUE,M9>0),AND(Q8=TRUE,Q9>0)),\"Fejl! Det er ikke muligt at vinde og feede på samme tid!\",IF(Y7=\"I. S\",IF(C10=TRUE,\"Ingen spillere gik Mahjong. Hånden gik ud!\",\"\"),IF(Y8=\"Selvtræk\",CONCATENATE(Y7,\" vandt \",(SUM(U8:X8)+8)*3,\" points på selvtræk. (\",SUM(U8:X8),\"-points hånd.)\"),CONCATENATE(Y7,\" vandt \",SUM(U8:X8)+24,\" points. \",Y8,\" feedede en \",SUM(U8:X8),\"-points hånd.\"))))","v":""}]
[]
[null,null,null,4,"WinHand","Win/Lose","Total",1,"WinHand","Win/Lose","Total",2,"WinHand","Win/Lose","Total",3,"WinHand","Win/Lose","Total",{"$f":"IF(COUNTIF(U12:X12,TRUE)>1,\"Fejl! (Feed)\",\"\")","v":""},{"$f":"E13","v":false},{"$f":"I13","v":false},{"$f":"M13","v":false},{"$f":"Q13","v":false},{"$f":"IF(E14<>\"\",$D$6,IF(I14<>\"\",$H$6,IF(M14<>\"\",$L$6,IF(Q14<>\"\",$P$6,\"I. S\"))))","v":"I. S"}]
[null,null,null,null,false,null,null,null,false,null,null,null,false,null,null,null,false,null,null,{"$f":"IF(SUM(U14:X14)>1,\"Fejl! (Wins)\",\"\")","v":""},{"$f":"E14","v":0},{"$f":"I14","v":0},{"$f":"M14","v":0},{"$f":"Q14","v":0},{"$f":"IF(E13,$D$6,IF(I13,$H$6,IF(M13,$L$6,IF(Q13,$P$6,\"Selvtræk\"))))","v":"Selvtræk"}]
[null,null,null,null,null,{"$f":"IF(AND($E14=\"\",$I14=\"\",$M14=\"\",$Q14=\"\"),\"\",IF(E14<>\"\",IF($Y13=\"Selvtræk\",(E14+8)*3,E14+24),IF(OR($E13,$I13,$M13,$Q13),IF(E13=TRUE,(SUM($U13:$X13)+8)*(-1),-8),(SUM($U13:$X13)+8)*(-1))))","v":""},{"$f":"IF(AND($E14=\"\",$I14=\"\",$M14=\"\",$Q14=\"\"),IF($C15=TRUE,0+G9,\"N. P.\"),G9+F14)","v":"N. P."},null,null,{"$f":"IF(AND($E14=\"\",$I14=\"\",$M14=\"\",$Q14=\"\"),\"\",IF(I14<>\"\",IF($Y13=\"Selvtræk\",(I14+8)*3,I14+24),IF(OR($E13,$I13,$M13,$Q13),IF(I13=TRUE,(SUM($U13:$X13)+8)*(-1),-8),(SUM($U13:$X13)+8)*(-1))))","v":""},{"$f":"IF(AND($E14=\"\",$I14=\"\",$M14=\"\",$Q14=\"\"),IF($C15=TRUE,0+K9,\"N. P.\"),K9+J14)","v":"N. P."},null,null,{"$f":"IF(AND($E14=\"\",$I14=\"\",$M14=\"\",$Q14=\"\"),\"\",IF(M14<>\"\",IF($Y13=\"Selvtræk\",(M14+8)*3,M14+24),IF(OR($E13,$I13,$M13,$Q13),IF(M13=TRUE,(SUM($U13:$X13)+8)*(-1),-8),(SUM($U13:$X13)+8)*(-1))))","v":""},{"$f":"IF(AND($E14=\"\",$I14=\"\",$M14=\"\",$Q14=\"\"),IF($C15=TRUE,0+O9,\"N. P.\"),O9+N14)","v":"N. P."},null,null,{"$f":"IF(AND($E14=\"\",$I14=\"\",$M14=\"\",$Q14=\"\"),\"\",IF(Q14<>\"\",IF($Y13=\"Selvtræk\",(Q14+8)*3,Q14+24),IF(OR($E13,$I13,$M13,$Q13),IF(Q13=TRUE,(SUM($U13:$X13)+8)*(-1),-8),(SUM($U13:$X13)+8)*(-1))))","v":""},{"$f":"IF(AND($E14=\"\",$I14=\"\",$M14=\"\",$Q14=\"\"),IF($C15=TRUE,0+S9,\"N. P.\"),S9+R14)","v":"N. P."},{"$f":"IF(SUM(U13:X13)>0,CONCATENATE(\"Chksum: \",F14+J14+N14+R14),\"\")","v":""},{"$f":"IF(U13>0,1,0)","v":0},{"$f":"IF(V13>0,1,0)","v":0},{"$f":"IF(W13>0,1,0)","v":0},{"$f":"IF(X13>0,1,0)","v":0}]
[null,null,false,null,{"$f":"IF(OR(AND(E13=TRUE,E14>0),AND(I13=TRUE,I14>0),AND(M13=TRUE,M14>0),AND(Q13=TRUE,Q14>0)),\"Fejl! Det er ikke muligt at vinde og feede på samme tid!\",IF(Y12=\"I. S\",IF(C15=TRUE,\"Ingen spillere gik Mahjong. Hånden gik ud!\",\"\"),IF(Y13=\"Selvtræk\",CONCATENATE(Y12,\" vandt \",(SUM(U13:X13)+8)*3,\" points på selvtræk. (\",SUM(U13:X13),\"-points hånd.)\"),CONCATENATE(Y12,\" vandt \",SUM(U13:X13)+24,\" points. \",Y13,\" feedede en \",SUM(U13:X13),\"-points hånd.\"))))","v":""}]
[]
[null,null,null,3,"WinHand","Win/Lose","Total",4,"WinHand","Win/Lose","Total",1,"WinHand","Win/Lose","Total",2,"WinHand","Win/Lose","Total",{"$f":"IF(COUNTIF(U17:X17,TRUE)>1,\"Fejl! (Feed)\",\"\")","v":""},{"$f":"E18","v":false},{"$f":"I18","v":false},{"$f":"M18","v":false},{"$f":"Q18","v":false},{"$f":"IF(E19<>\"\",$D$6,IF(I19<>\"\",$H$6,IF(M19<>\"\",$L$6,IF(Q19<>\"\",$P$6,\"I. S\"))))","v":"I. S"}]
[null,null,null,null,false,null,null,null,false,null,null,null,false,null,null,null,false,null,null,{"$f":"IF(SUM(U19:X19)>1,\"Fejl! (Wins)\",\"\")","v":""},{"$f":"E19","v":0},{"$f":"I19","v":0},{"$f":"M19","v":0},{"$f":"Q19","v":0},{"$f":"IF(E18,$D$6,IF(I18,$H$6,IF(M18,$L$6,IF(Q18,$P$6,\"Selvtræk\"))))","v":"Selvtræk"}]
[null,null,null,null,null,{"$f":"IF(AND($E19=\"\",$I19=\"\",$M19=\"\",$Q19=\"\"),\"\",IF(E19<>\"\",IF($Y18=\"Selvtræk\",(E19+8)*3,E19+24),IF(OR($E18,$I18,$M18,$Q18),IF(E18=TRUE,(SUM($U18:$X18)+8)*(-1),-8),(SUM($U18:$X18)+8)*(-1))))","v":""},{"$f":"IF(AND($E19=\"\",$I19=\"\",$M19=\"\",$Q19=\"\"),IF($C20=TRUE,0+G14,\"N. P.\"),G14+F19)","v":"N. P."},null,null,{"$f":"IF(AND($E19=\"\",$I19=\"\",$M19=\"\",$Q19=\"\"),\"\",IF(I19<>\"\",IF($Y18=\"Selvtræk\",(I19+8)*3,I19+24),IF(OR($E18,$I18,$M18,$Q18),IF(I18=TRUE,(SUM($U18:$X18)+8)*(-1),-8),(SUM($U18:$X18)+8)*(-1))))","v":""},{"$f":"IF(AND($E19=\"\",$I19=\"\",$M19=\"\",$Q19=\"\"),IF($C20=TRUE,0+K14,\"N. P.\"),K14+J19)","v":"N. P."},null,null,{"$f":"IF(AND($E19=\"\",$I19=\"\",$M19=\"\",$Q19=\"\"),\"\",IF(M19<>\"\",IF($Y18=\"Selvtræk\",(M19+8)*3,M19+24),IF(OR($E18,$I18,$M18,$Q18),IF(M18=TRUE,(SUM($U18:$X18)+8)*(-1),-8),(SUM($U18:$X18)+8)*(-1))))","v":""},{"$f":"IF(AND($E19=\"\",$I19=\"\",$M19=\"\",$Q19=\"\"),IF($C20=TRUE,0+O14,\"N. P.\"),O14+N19)","v":"N. P."},null,null,{"$f":"IF(AND($E19=\"\",$I19=\"\",$M19=\"\",$Q19=\"\"),\"\",IF(Q19<>\"\",IF($Y18=\"Selvtræk\",(Q19+8)*3,Q19+24),IF(OR($E18,$I18,$M18,$Q18),IF(Q18=TRUE,(SUM($U18:$X18)+8)*(-1),-8),(SUM($U18:$X18)+8)*(-1))))","v":""},{"$f":"IF(AND($E19=\"\",$I19=\"\",$M19=\"\",$Q19=\"\"),IF($C20=TRUE,0+S14,\"N. P.\"),S14+R19)","v":"N. P."},{"$f":"IF(SUM(U18:X18)>0,CONCATENATE(\"Chksum: \",F19+J19+N19+R19),\"\")","v":""},{"$f":"IF(U18>0,1,0)","v":0},{"$f":"IF(V18>0,1,0)","v":0},{"$f":"IF(W18>0,1,0)","v":0},{"$f":"IF(X18>0,1,0)","v":0}]
[null,null,false,null,{"$f":"IF(OR(AND(E18=TRUE,E19>0),AND(I18=TRUE,I19>0),AND(M18=TRUE,M19>0),AND(Q18=TRUE,Q19>0)),\"Fejl! Det er ikke muligt at vinde og feede på samme tid!\",IF(Y17=\"I. S\",IF(C20=TRUE,\"Ingen spillere gik Mahjong. Hånden gik ud!\",\"\"),IF(Y18=\"Selvtræk\",CONCATENATE(Y17,\" vandt \",(SUM(U18:X18)+8)*3,\" points på selvtræk. (\",SUM(U18:X18),\"-points hånd.)\"),CONCATENATE(Y17,\" vandt \",SUM(U18:X18)+24,\" points. \",Y18,\" feedede en \",SUM(U18:X18),\"-points hånd.\"))))","v":""}]
[]
[null,null,null,2,"WinHand","Win/Lose","Total",3,"WinHand","Win/Lose","Total",4,"WinHand","Win/Lose","Total",1,"WinHand","Win/Lose","Total",{"$f":"IF(COUNTIF(U22:X22,TRUE)>1,\"Fejl! (Feed)\",\"\")","v":""},{"$f":"E23","v":false},{"$f":"I23","v":false},{"$f":"M23","v":false},{"$f":"Q23","v":false},{"$f":"IF(E24<>\"\",$D$6,IF(I24<>\"\",$H$6,IF(M24<>\"\",$L$6,IF(Q24<>\"\",$P$6,\"I. S\"))))","v":"I. S"}]
[null,null,null,null,false,null,null,null,false,null,null,null,false,null,null,null,false,null,null,{"$f":"IF(SUM(U24:X24)>1,\"Fejl! (Wins)\",\"\")","v":""},{"$f":"E24","v":0},{"$f":"I24","v":0},{"$f":"M24","v":0},{"$f":"Q24","v":0},{"$f":"IF(E23,$D$6,IF(I23,$H$6,IF(M23,$L$6,IF(Q23,$P$6,\"Selvtræk\"))))","v":"Selvtræk"}]
[null,null,null,null,null,{"$f":"IF(AND($E24=\"\",$I24=\"\",$M24=\"\",$Q24=\"\"),\"\",IF(E24<>\"\",IF($Y23=\"Selvtræk\",(E24+8)*3,E24+24),IF(OR($E23,$I23,$M23,$Q23),IF(E23=TRUE,(SUM($U23:$X23)+8)*(-1),-8),(SUM($U23:$X23)+8)*(-1))))","v":""},{"$f":"IF(AND($E24=\"\",$I24=\"\",$M24=\"\",$Q24=\"\"),IF($C25=TRUE,0+G19,\"N. P.\"),G19+F24)","v":"N. P."},null,null,{"$f":"IF(AND($E24=\"\",$I24=\"\",$M24=\"\",$Q24=\"\"),\"\",IF(I24<>\"\",IF($Y23=\"Selvtræk\",(I24+8)*3,I24+24),IF(OR($E23,$I23,$M23,$Q23),IF(I23=TRUE,(SUM($U23:$X23)+8)*(-1),-8),(SUM($U23:$X23)+8)*(-1))))","v":""},{"$f":"IF(AND($E24=\"\",$I24=\"\",$M24=\"\",$Q24=\"\"),IF($C25=TRUE,0+K19,\"N. P.\"),K19+J24)","v":"N. P."},null,null,{"$f":"IF(AND($E24=\"\",$I24=\"\",$M24=\"\",$Q24=\"\"),\"\",IF(M24<>\"\",IF($Y23=\"Selvtræk\",(M24+8)*3,M24+24),IF(OR($E23,$I23,$M23,$Q23),IF(M23=TRUE,(SUM($U23:$X23)+8)*(-1),-8),(SUM($U23:$X23)+8)*(-1))))","v":""},{"$f":"IF(AND($E24=\"\",$I24=\"\",$M24=\"\",$Q24=\"\"),IF($C25=TRUE,0+O19,\"N. P.\"),O19+N24)","v":"N. P."},null,null,{"$f":"IF(AND($E24=\"\",$I24=\"\",$M24=\"\",$Q24=\"\"),\"\",IF(Q24<>\"\",IF($Y23=\"Selvtræk\",(Q24+8)*3,Q24+24),IF(OR($E23,$I23,$M23,$Q23),IF(Q23=TRUE,(SUM($U23:$X23)+8)*(-1),-8),(SUM($U23:$X23)+8)*(-1))))","v":""},{"$f":"IF(AND($E24=\"\",$I24=\"\",$M24=\"\",$Q24=\"\"),IF($C25=TRUE,0+S19,\"N. P.\"),S19+R24)","v":"N. P."},{"$f":"IF(SUM(U23:X23)>0,CONCATENATE(\"Chksum: \",F24+J24+N24+R24),\"\")","v":""},{"$f":"IF(U23>0,1,0)","v":0},{"$f":"IF(V23>0,1,0)","v":0},{"$f":"IF(W23>0,1,0)","v":0},{"$f":"IF(X23>0,1,0)","v":0}]
[null,null,false,null,{"$f":"IF(OR(AND(E23=TRUE,E24>0),AND(I23=TRUE,I24>0),AND(M23=TRUE,M24>0),AND(Q23=TRUE,Q24>0)),\"Fejl! Det er ikke muligt at vinde og feede på samme tid!\",IF(Y22=\"I. S\",IF(C25=TRUE,\"Ingen spillere gik Mahjong. Hånden gik ud!\",\"\"),IF(Y23=\"Selvtræk\",CONCATENATE(Y22,\" vandt \",(SUM(U23:X23)+8)*3,\" points på selvtræk. (\",SUM(U23:X23),\"-points hånd.)\"),CONCATENATE(Y22,\" vandt \",SUM(U23:X23)+24,\" points. \",Y23,\" feedede en \",SUM(U23:X23),\"-points hånd.\"))))","v":""}]
[]
[null,null,null,"East Round - Result"]
[null,null,null,null,{"$f":"CONCATENATE(D6,\":\")","v":"East:"},null,{"$f":"G24","v":"N. P."},null,{"$f":"CONCATENATE(H6,\":\")","v":"South:"},null,{"$f":"K24","v":"N. P."},null,{"$f":"CONCATENATE(L6,\":\")","v":"West:"},null,{"$f":"O24","v":"N. P."},null,{"$f":"CONCATENATE(P6,\":\")","v":"North:"},null,{"$f":"S24","v":"N. P."}]
[]
[null,null,"Zero",{"$f":"D6","v":"East"},null,null,null,{"$f":"H6","v":"South"},null,null,null,{"$f":"L6","v":"West"},null,null,null,{"$f":"P6","v":"North"},null,null,null,"Kontrol"]
[null,"South Round",null,1,"WinHand","Win/Lose","Total",2,"WinHand","Win/Lose","Total",3,"WinHand","Win/Lose","Total",4,"WinHand","Win/Lose","Total",{"$f":"IF(COUNTIF(U31:X31,TRUE)>1,\"Fejl! (Feed)\",\"\")","v":""},{"$f":"E32","v":false},{"$f":"I32","v":false},{"$f":"M32","v":false},{"$f":"Q32","v":false},{"$f":"IF(E33<>\"\",$D$6,IF(I33<>\"\",$H$6,IF(M33<>\"\",$L$6,IF(Q33<>\"\",$P$6,\"I. S\"))))","v":"I. S"}]
[null,null,null,null,false,null,null,null,false,null,null,null,false,null,null,null,false,null,null,{"$f":"IF(SUM(U33:X33)>1,\"Fejl! (Wins)\",\"\")","v":""},{"$f":"E33","v":0},{"$f":"I33","v":0},{"$f":"M33","v":0},{"$f":"Q33","v":0},{"$f":"IF(E32,$D$6,IF(I32,$H$6,IF(M32,$L$6,IF(Q32,$P$6,\"Selvtræk\"))))","v":"Selvtræk"}]
[null,null,null,null,null,{"$f":"IF(AND($E33=\"\",$I33=\"\",$M33=\"\",$Q33=\"\"),\"\",IF(E33<>\"\",IF($Y32=\"Selvtræk\",(E33+8)*3,E33+24),IF(OR($E32,$I32,$M32,$Q32),IF(E32=TRUE,(SUM($U32:$X32)+8)*(-1),-8),(SUM($U32:$X32)+8)*(-1))))","v":""},{"$f":"IF(AND($E33=\"\",$I33=\"\",$M33=\"\",$Q33=\"\"),IF($C34,0,\"N. P.\"),IF(E33>0,IF(OR($E32,$I32,$M32,$Q32),E33+24,(E33+8)*3),F33))","v":"N. P."},null,null,{"$f":"IF(AND($E33=\"\",$I33=\"\",$M33=\"\",$Q33=\"\"),\"\",IF(I33<>\"\",IF($Y32=\"Selvtræk\",(I33+8)*3,I33+24),IF(OR($E32,$I32,$M32,$Q32),IF(I32=TRUE,(SUM($U32:$X32)+8)*(-1),-8),(SUM($U32:$X32)+8)*(-1))))","v":""},{"$f":"IF(AND($E33=\"\",$I33=\"\",$M33=\"\",$Q33=\"\"),IF($C34,0,\"N. P.\"),IF(I33>0,IF(OR($E32,$I32,$M32,$Q32),I33+24,(I33+8)*3),J33))","v":"N. P."},null,null,{"$f":"IF(AND($E33=\"\",$I33=\"\",$M33=\"\",$Q33=\"\"),\"\",IF(M33<>\"\",IF($Y32=\"Selvtræk\",(M33+8)*3,M33+24),IF(OR($E32,$I32,$M32,$Q32),IF(M32=TRUE,(SUM($U32:$X32)+8)*(-1),-8),(SUM($U32:$X32)+8)*(-1))))","v":""},{"$f":"IF(AND($E33=\"\",$I33=\"\",$M33=\"\",$Q33=\"\"),IF($C34,0,\"N. P.\"),IF(M33>0,IF(OR($E32,$I32,$M32,$Q32),M33+24,(M33+8)*3),N33))","v":"N. P."},null,null,{"$f":"IF(AND($E33=\"\",$I33=\"\",$M33=\"\",$Q33=\"\"),\"\",IF(Q33<>\"\",IF($Y32=\"Selvtræk\",(Q33+8)*3,Q33+24),IF(OR($E32,$I32,$M32,$Q32),IF(Q32=TRUE,(SUM($U32:$X32)+8)*(-1),-8),(SUM($U32:$X32)+8)*(-1))))","v":""},{"$f":"IF(AND($E33=\"\",$I33=\"\",$M33=\"\",$Q33=\"\"),IF($C34,0,\"N. P.\"),IF(Q33>0,IF(OR($E32,$I32,$M32,$Q32),Q33+24,(Q33+8)*3),R33))","v":"N. P."},{"$f":"IF(SUM(U32:X32)>0,CONCATENATE(\"Chksum: \",F33+J33+N33+R33),\"\")","v":""},{"$f":"IF(U32>0,1,0)","v":0},{"$f":"IF(V32>0,1,0)","v":0},{"$f":"IF(W32>0,1,0)","v":0},{"$f":"IF(X32>0,1,0)","v":0}]
[null,null,false,null,{"$f":"IF(OR(AND(E32=TRUE,E33>0),AND(I32=TRUE,I33>0),AND(M32=TRUE,M33>0),AND(Q32=TRUE,Q33>0)),\"Fejl! Det er ikke muligt at vinde og feede på samme tid!\",IF(Y31=\"I. S\",IF(C34=TRUE,\"Ingen spillere gik Mahjong. Hånden gik ud!\",\"\"),IF(Y32=\"Selvtræk\",CONCATENATE(Y31,\" vandt \",(SUM(U32:X32)+8)*3,\" points på selvtræk. (\",SUM(U32:X32),\"-points hånd.)\"),CONCATENATE(Y31,\" vandt \",SUM(U32:X32)+24,\" points. \",Y32,\" feedede en \",SUM(U32:X32),\"-points hånd.\"))))","v":""}]
[]
[null,null,null,4,"WinHand","Win/Lose","Total",1,"WinHand","Win/Lose","Total",2,"WinHand","Win/Lose","Total",3,"WinHand","Win/Lose","Total",{"$f":"IF(COUNTIF(U36:X36,TRUE)>1,\"Fejl! (Feed)\",\"\")","v":""},{"$f":"E37","v":false},{"$f":"I37","v":false},{"$f":"M37","v":false},{"$f":"Q37","v":false},{"$f":"IF(E38<>\"\",$D$6,IF(I38<>\"\",$H$6,IF(M38<>\"\",$L$6,IF(Q38<>\"\",$P$6,\"I. S\"))))","v":"I. S"}]
[null,null,null,null,false,null,null,null,false,null,null,null,false,null,null,null,false,null,null,{"$f":"IF(SUM(U38:X38)>1,\"Fejl! (Wins)\",\"\")","v":""},{"$f":"E38","v":0},{"$f":"I38","v":0},{"$f":"M38","v":0},{"$f":"Q38","v":0},{"$f":"IF(E37,$D$6,IF(I37,$H$6,IF(M37,$L$6,IF(Q37,$P$6,\"Selvtræk\"))))","v":"Selvtræk"}]
[null,null,null,null,null,{"$f":"IF(AND($E38=\"\",$I38=\"\",$M38=\"\",$Q38=\"\"),\"\",IF(E38<>\"\",IF($Y37=\"Selvtræk\",(E38+8)*3,E38+24),IF(OR($E37,$I37,$M37,$Q37),IF(E37=TRUE,(SUM($U37:$X37)+8)*(-1),-8),(SUM($U37:$X37)+8)*(-1))))","v":""},{"$f":"IF(AND($E38=\"\",$I38=\"\",$M38=\"\",$Q38=\"\"),IF($C39=TRUE,0+G33,\"N. P.\"),G33+F38)","v":"N. P."},null,null,{"$f":"IF(AND($E38=\"\",$I38=\"\",$M38=\"\",$Q38=\"\"),\"\",IF(I38<>\"\",IF($Y37=\"Selvtræk\",(I38+8)*3,I38+24),IF(OR($E37,$I37,$M37,$Q37),IF(I37=TRUE,(SUM($U37:$X37)+8)*(-1),-8),(SUM($U37:$X37)+8)*(-1))))","v":""},{"$f":"IF(AND($E38=\"\",$I38=\"\",$M38=\"\",$Q38=\"\"),IF($C39=TRUE,0+K33,\"N. P.\"),K33+J38)","v":"N. P."},null,null,{"$f":"IF(AND($E38=\"\",$I38=\"\",$M38=\"\",$Q38=\"\"),\"\",IF(M38<>\"\",IF($Y37=\"Selvtræk\",(M38+8)*3,M38+24),IF(OR($E37,$I37,$M37,$Q37),IF(M37=TRUE,(SUM($U37:$X37)+8)*(-1),-8),(SUM($U37:$X37)+8)*(-1))))","v":""},{"$f":"IF(AND($E38=\"\",$I38=\"\",$M38=\"\",$Q38=\"\"),IF($C39=TRUE,0+O33,\"N. P.\"),O33+N38)","v":"N. P."},null,null,{"$f":"IF(AND($E38=\"\",$I38=\"\",$M38=\"\",$Q38=\"\"),\"\",IF(Q38<>\"\",IF($Y37=\"Selvtræk\",(Q38+8)*3,Q38+24),IF(OR($E37,$I37,$M37,$Q37),IF(Q37=TRUE,(SUM($U37:$X37)+8)*(-1),-8),(SUM($U37:$X37)+8)*(-1))))","v":""},{"$f":"IF(AND($E38=\"\",$I38=\"\",$M38=\"\",$Q38=\"\"),IF($C39=TRUE,0+S33,\"N. P.\"),S33+R38)","v":"N. P."},{"$f":"IF(SUM(U37:X37)>0,CONCATENATE(\"Chksum: \",F38+J38+N38+R38),\"\")","v":""},{"$f":"IF(U37>0,1,0)","v":0},{"$f":"IF(V37>0,1,0)","v":0},{"$f":"IF(W37>0,1,0)","v":0},{"$f":"IF(X37>0,1,0)","v":0}]
[null,null,false,null,{"$f":"IF(OR(AND(E37=TRUE,E38>0),AND(I37=TRUE,I38>0),AND(M37=TRUE,M38>0),AND(Q37=TRUE,Q38>0)),\"Fejl! Det er ikke muligt at vinde og feede på samme tid!\",IF(Y36=\"I. S\",IF(C39=TRUE,\"Ingen spillere gik Mahjong. Hånden gik ud!\",\"\"),IF(Y37=\"Selvtræk\",CONCATENATE(Y36,\" vandt \",(SUM(U37:X37)+8)*3,\" points på selvtræk. (\",SUM(U37:X37),\"-points hånd.)\"),CONCATENATE(Y36,\" vandt \",SUM(U37:X37)+24,\" points. \",Y37,\" feedede en \",SUM(U37:X37),\"-points hånd.\"))))","v":""}]
[]
[null,null,null,3,"WinHand","Win/Lose","Total",4,"WinHand","Win/Lose","Total",1,"WinHand","Win/Lose","Total",2,"WinHand","Win/Lose","Total",{"$f":"IF(COUNTIF(U41:X41,TRUE)>1,\"Fejl! (Feed)\",\"\")","v":""},{"$f":"E42","v":false},{"$f":"I42","v":false},{"$f":"M42","v":false},{"$f":"Q42","v":false},{"$f":"IF(E43<>\"\",$D$6,IF(I43<>\"\",$H$6,IF(M43<>\"\",$L$6,IF(Q43<>\"\",$P$6,\"I. S\"))))","v":"I. S"}]
[null,null,null,null,false,null,null,null,false,null,null,null,false,null,null,null,false,null,null,{"$f":"IF(SUM(U43:X43)>1,\"Fejl! (Wins)\",\"\")","v":""},{"$f":"E43","v":0},{"$f":"I43","v":0},{"$f":"M43","v":0},{"$f":"Q43","v":0},{"$f":"IF(E42,$D$6,IF(I42,$H$6,IF(M42,$L$6,IF(Q42,$P$6,\"Selvtræk\"))))","v":"Selvtræk"}]
[null,null,null,null,null,{"$f":"IF(AND($E43=\"\",$I43=\"\",$M43=\"\",$Q43=\"\"),\"\",IF(E43<>\"\",IF($Y42=\"Selvtræk\",(E43+8)*3,E43+24),IF(OR($E42,$I42,$M42,$Q42),IF(E42=TRUE,(SUM($U42:$X42)+8)*(-1),-8),(SUM($U42:$X42)+8)*(-1))))","v":""},{"$f":"IF(AND($E43=\"\",$I43=\"\",$M43=\"\",$Q43=\"\"),IF($C44=TRUE,0+G38,\"N. P.\"),G38+F43)","v":"N. P."},null,null,{"$f":"IF(AND($E43=\"\",$I43=\"\",$M43=\"\",$Q43=\"\"),\"\",IF(I43<>\"\",IF($Y42=\"Selvtræk\",(I43+8)*3,I43+24),IF(OR($E42,$I42,$M42,$Q42),IF(I42=TRUE,(SUM($U42:$X42)+8)*(-1),-8),(SUM($U42:$X42)+8)*(-1))))","v":""},{"$f":"IF(AND($E43=\"\",$I43=\"\",$M43=\"\",$Q43=\"\"),IF($C44=TRUE,0+K38,\"N. P.\"),K38+J43)","v":"N. P."},null,null,{"$f":"IF(AND($E43=\"\",$I43=\"\",$M43=\"\",$Q43=\"\"),\"\",IF(M43<>\"\",IF($Y42=\"Selvtræk\",(M43+8)*3,M43+24),IF(OR($E42,$I42,$M42,$Q42),IF(M42=TRUE,(SUM($U42:$X42)+8)*(-1),-8),(SUM($U42:$X42)+8)*(-1))))","v":""},{"$f":"IF(AND($E43=\"\",$I43=\"\",$M43=\"\",$Q43=\"\"),IF($C44=TRUE,0+O38,\"N. P.\"),O38+N43)","v":"N. P."},null,null,{"$f":"IF(AND($E43=\"\",$I43=\"\",$M43=\"\",$Q43=\"\"),\"\",IF(Q43<>\"\",IF($Y42=\"Selvtræk\",(Q43+8)*3,Q43+24),IF(OR($E42,$I42,$M42,$Q42),IF(Q42=TRUE,(SUM($U42:$X42)+8)*(-1),-8),(SUM($U42:$X42)+8)*(-1))))","v":""},{"$f":"IF(AND($E43=\"\",$I43=\"\",$M43=\"\",$Q43=\"\"),IF($C44=TRUE,0+S38,\"N. P.\"),S38+R43)","v":"N. P."},{"$f":"IF(SUM(U42:X42)>0,CONCATENATE(\"Chksum: \",F43+J43+N43+R43),\"\")","v":""},{"$f":"IF(U42>0,1,0)","v":0},{"$f":"IF(V42>0,1,0)","v":0},{"$f":"IF(W42>0,1,0)","v":0},{"$f":"IF(X42>0,1,0)","v":0}]
[null,null,false,null,{"$f":"IF(OR(AND(E42=TRUE,E43>0),AND(I42=TRUE,I43>0),AND(M42=TRUE,M43>0),AND(Q42=TRUE,Q43>0)),\"Fejl! Det er ikke muligt at vinde og feede på samme tid!\",IF(Y41=\"I. S\",IF(C44=TRUE,\"Ingen spillere gik Mahjong. Hånden gik ud!\",\"\"),IF(Y42=\"Selvtræk\",CONCATENATE(Y41,\" vandt \",(SUM(U42:X42)+8)*3,\" points på selvtræk. (\",SUM(U42:X42),\"-points hånd.)\"),CONCATENATE(Y41,\" vandt \",SUM(U42:X42)+24,\" points. \",Y42,\" feedede en \",SUM(U42:X42),\"-points hånd.\"))))","v":""}]
[]
[null,null,null,2,"WinHand","Win/Lose","Total",3,"WinHand","Win/Lose","Total",4,"WinHand","Win/Lose","Total",1,"WinHand","Win/Lose","Total",{"$f":"IF(COUNTIF(U46:X46,TRUE)>1,\"Fejl! (Feed)\",\"\")","v":""},{"$f":"E47","v":false},{"$f":"I47","v":false},{"$f":"M47","v":false},{"$f":"Q47","v":false},{"$f":"IF(E48<>\"\",$D$6,IF(I48<>\"\",$H$6,IF(M48<>\"\",$L$6,IF(Q48<>\"\",$P$6,\"I. S\"))))","v":"I. S"}]
[null,null,null,null,false,null,null,null,false,null,null,null,false,null,null,null,false,null,null,{"$f":"IF(SUM(U48:X48)>1,\"Fejl! (Wins)\",\"\")","v":""},{"$f":"E48","v":0},{"$f":"I48","v":0},{"$f":"M48","v":0},{"$f":"Q48","v":0},{"$f":"IF(E47,$D$6,IF(I47,$H$6,IF(M47,$L$6,IF(Q47,$P$6,\"Selvtræk\"))))","v":"Selvtræk"}]
[null,null,null,null,null,{"$f":"IF(AND($E48=\"\",$I48=\"\",$M48=\"\",$Q48=\"\"),\"\",IF(E48<>\"\",IF($Y47=\"Selvtræk\",(E48+8)*3,E48+24),IF(OR($E47,$I47,$M47,$Q47),IF(E47=TRUE,(SUM($U47:$X47)+8)*(-1),-8),(SUM($U47:$X47)+8)*(-1))))","v":""},{"$f":"IF(AND($E48=\"\",$I48=\"\",$M48=\"\",$Q48=\"\"),IF($C49=TRUE,0+G43,\"N. P.\"),G43+F48)","v":"N. P."},null,null,{"$f":"IF(AND($E48=\"\",$I48=\"\",$M48=\"\",$Q48=\"\"),\"\",IF(I48<>\"\",IF($Y47=\"Selvtræk\",(I48+8)*3,I48+24),IF(OR($E47,$I47,$M47,$Q47),IF(I47=TRUE,(SUM($U47:$X47)+8)*(-1),-8),(SUM($U47:$X47)+8)*(-1))))","v":""},{"$f":"IF(AND($E48=\"\",$I48=\"\",$M48=\"\",$Q48=\"\"),IF($C49=TRUE,0+K43,\"N. P.\"),K43+J48)","v":"N. P."},null,null,{"$f":"IF(AND($E48=\"\",$I48=\"\",$M48=\"\",$Q48=\"\"),\"\",IF(M48<>\"\",IF($Y47=\"Selvtræk\",(M48+8)*3,M48+24),IF(OR($E47,$I47,$M47,$Q47),IF(M47=TRUE,(SUM($U47:$X47)+8)*(-1),-8),(SUM($U47:$X47)+8)*(-1))))","v":""},{"$f":"IF(AND($E48=\"\",$I48=\"\",$M48=\"\",$Q48=\"\"),IF($C49=TRUE,0+O43,\"N. P.\"),O43+N48)","v":"N. P."},null,null,{"$f":"IF(AND($E48=\"\",$I48=\"\",$M48=\"\",$Q48=\"\"),\"\",IF(Q48<>\"\",IF($Y47=\"Selvtræk\",(Q48+8)*3,Q48+24),IF(OR($E47,$I47,$M47,$Q47),IF(Q47=TRUE,(SUM($U47:$X47)+8)*(-1),-8),(SUM($U47:$X47)+8)*(-1))))","v":""},{"$f":"IF(AND($E48=\"\",$I48=\"\",$M48=\"\",$Q48=\"\"),IF($C49=TRUE,0+S43,\"N. P.\"),S43+R48)","v":"N. P."},{"$f":"IF(SUM(U47:X47)>0,CONCATENATE(\"Chksum: \",F48+J48+N48+R48),\"\")","v":""},{"$f":"IF(U47>0,1,0)","v":0},{"$f":"IF(V47>0,1,0)","v":0},{"$f":"IF(W47>0,1,0)","v":0},{"$f":"IF(X47>0,1,0)","v":0}]
[null,null,false,null,{"$f":"IF(OR(AND(E47=TRUE,E48>0),AND(I47=TRUE,I48>0),AND(M47=TRUE,M48>0),AND(Q47=TRUE,Q48>0)),\"Fejl! Det er ikke muligt at vinde og feede på samme tid!\",IF(Y46=\"I. S\",IF(C49=TRUE,\"Ingen spillere gik Mahjong. Hånden gik ud!\",\"\"),IF(Y47=\"Selvtræk\",CONCATENATE(Y46,\" vandt \",(SUM(U47:X47)+8)*3,\" points på selvtræk. (\",SUM(U47:X47),\"-points hånd.)\"),CONCATENATE(Y46,\" vandt \",SUM(U47:X47)+24,\" points. \",Y47,\" feedede en \",SUM(U47:X47),\"-points hånd.\"))))","v":""}]
[]
[null,null,null,"South Round - Result"]
[null,null,null,null,{"$f":"CONCATENATE(D30,\":\")","v":"East:"},null,{"$f":"G48","v":"N. P."},null,{"$f":"CONCATENATE(H30,\":\")","v":"South:"},null,{"$f":"K48","v":"N. P."},null,{"$f":"CONCATENATE(L30,\":\")","v":"West:"},null,{"$f":"O48","v":"N. P."},null,{"$f":"CONCATENATE(P30,\":\")","v":"North:"},null,{"$f":"S48","v":"N. P."}]
[]
[null,"East",null,null,{"$f":"CONCATENATE($D$30,\":\")","v":"East:"},null,{"$f":"G28","v":"N. P."},null,{"$f":"CONCATENATE($H$30,\":\")","v":"South:"},null,{"$f":"K28","v":"N. P."},null,{"$f":"CONCATENATE($L$30,\":\")","v":"West:"},null,{"$f":"O28","v":"N. P."},null,{"$f":"CONCATENATE($P$30,\":\")","v":"North:"},null,{"$f":"S28","v":"N. P."}]
[null,"South",null,null,{"$f":"CONCATENATE($D$30,\":\")","v":"East:"},null,{"$f":"G52","v":"N. P."},null,{"$f":"CONCATENATE($H$30,\":\")","v":"South:"},null,{"$f":"K52","v":"N. P."},null,{"$f":"CONCATENATE($L$30,\":\")","v":"West:"},null,{"$f":"O52","v":"N. P."},null,{"$f":"CONCATENATE($P$30,\":\")","v":"North:"},null,{"$f":"S52","v":"N. P."}]
[null,"Total",null,null,{"$f":"CONCATENATE($D$30,\":\")","v":"East:"},null,{"$f":"SUM(G54:G55)","v":0},null,{"$f":"CONCATENATE($H$30,\":\")","v":"South:"},null,{"$f":"SUM(K54:K55)","v":0},null,{"$f":"CONCATENATE($L$30,\":\")","v":"West:"},null,{"$f":"SUM(O54:O55)","v":0},null,{"$f":"CONCATENATE($P$30,\":\")","v":"North:"},null,{"$f":"SUM(S54:S55)","v":0}]
[]
[null,null,"Zero",{"$f":"D30","v":"East"},null,null,null,{"$f":"H30","v":"South"},null,null,null,{"$f":"L30","v":"West"},null,null,null,{"$f":"P30","v":"North"},null,null,null,"Kontrol"]
[null,"West Round",null,1,"WinHand","Win/Lose","Total",2,"WinHand","Win/Lose","Total",3,"WinHand","Win/Lose","Total",4,"WinHand","Win/Lose","Total",{"$f":"IF(COUNTIF(U59:X59,TRUE)>1,\"Fejl! (Feed)\",\"\")","v":""},{"$f":"E60","v":false},{"$f":"I60","v":false},{"$f":"M60","v":false},{"$f":"Q60","v":false},{"$f":"IF(E61<>\"\",$D$6,IF(I61<>\"\",$H$6,IF(M61<>\"\",$L$6,IF(Q61<>\"\",$P$6,\"I. S\"))))","v":"I. S"}]
[null,null,null,null,false,null,null,null,false,null,null,null,false,null,null,null,false,null,null,{"$f":"IF(SUM(U61:X61)>1,\"Fejl! (Wins)\",\"\")","v":""},{"$f":"E61","v":0},{"$f":"I61","v":0},{"$f":"M61","v":0},{"$f":"Q61","v":0},{"$f":"IF(E60,$D$6,IF(I60,$H$6,IF(M60,$L$6,IF(Q60,$P$6,\"Selvtræk\"))))","v":"Selvtræk"}]
[null,null,null,null,null,{"$f":"IF(AND($E61=\"\",$I61=\"\",$M61=\"\",$Q61=\"\"),\"\",IF(E61<>\"\",IF($Y60=\"Selvtræk\",(E61+8)*3,E61+24),IF(OR($E60,$I60,$M60,$Q60),IF(E60=TRUE,(SUM($U60:$X60)+8)*(-1),-8),(SUM($U60:$X60)+8)*(-1))))","v":""},{"$f":"IF(AND($E61=\"\",$I61=\"\",$M61=\"\",$Q61=\"\"),IF($C62,0,\"N. P.\"),IF(E61>0,IF(OR($E60,$I60,$M60,$Q60),E61+24,(E61+8)*3),F61))","v":"N. P."},null,null,{"$f":"IF(AND($E61=\"\",$I61=\"\",$M61=\"\",$Q61=\"\"),\"\",IF(I61<>\"\",IF($Y60=\"Selvtræk\",(I61+8)*3,I61+24),IF(OR($E60,$I60,$M60,$Q60),IF(I60=TRUE,(SUM($U60:$X60)+8)*(-1),-8),(SUM($U60:$X60)+8)*(-1))))","v":""},{"$f":"IF(AND($E61=\"\",$I61=\"\",$M61=\"\",$Q61=\"\"),IF($C62,0,\"N. P.\"),IF(I61>0,IF(OR($E60,$I60,$M60,$Q60),I61+24,(I61+8)*3),J61))","v":"N. P."},null,null,{"$f":"IF(AND($E61=\"\",$I61=\"\",$M61=\"\",$Q61=\"\"),\"\",IF(M61<>\"\",IF($Y60=\"Selvtræk\",(M61+8)*3,M61+24),IF(OR($E60,$I60,$M60,$Q60),IF(M60=TRUE,(SUM($U60:$X60)+8)*(-1),-8),(SUM($U60:$X60)+8)*(-1))))","v":""},{"$f":"IF(AND($E61=\"\",$I61=\"\",$M61=\"\",$Q61=\"\"),IF($C62,0,\"N. P.\"),IF(M61>0,IF(OR($E60,$I60,$M60,$Q60),M61+24,(M61+8)*3),N61))","v":"N. P."},null,null,{"$f":"IF(AND($E61=\"\",$I61=\"\",$M61=\"\",$Q61=\"\"),\"\",IF(Q61<>\"\",IF($Y60=\"Selvtræk\",(Q61+8)*3,Q61+24),IF(OR($E60,$I60,$M60,$Q60),IF(Q60=TRUE,(SUM($U60:$X60)+8)*(-1),-8),(SUM($U60:$X60)+8)*(-1))))","v":""},{"$f":"IF(AND($E61=\"\",$I61=\"\",$M61=\"\",$Q61=\"\"),IF($C62,0,\"N. P.\"),IF(Q61>0,IF(OR($E60,$I60,$M60,$Q60),Q61+24,(Q61+8)*3),R61))","v":"N. P."},{"$f":"IF(SUM(U60:X60)>0,CONCATENATE(\"Chksum: \",F61+J61+N61+R61),\"\")","v":""},{"$f":"IF(U60>0,1,0)","v":0},{"$f":"IF(V60>0,1,0)","v":0},{"$f":"IF(W60>0,1,0)","v":0},{"$f":"IF(X60>0,1,0)","v":0}]
[null,null,false,null,{"$f":"IF(OR(AND(E60=TRUE,E61>0),AND(I60=TRUE,I61>0),AND(M60=TRUE,M61>0),AND(Q60=TRUE,Q61>0)),\"Fejl! Det er ikke muligt at vinde og feede på samme tid!\",IF(Y59=\"I. S\",IF(C62=TRUE,\"Ingen spillere gik Mahjong. Hånden gik ud!\",\"\"),IF(Y60=\"Selvtræk\",CONCATENATE(Y59,\" vandt \",(SUM(U60:X60)+8)*3,\" points på selvtræk. (\",SUM(U60:X60),\"-points hånd.)\"),CONCATENATE(Y59,\" vandt \",SUM(U60:X60)+24,\" points. \",Y60,\" feedede en \",SUM(U60:X60),\"-points hånd.\"))))","v":""}]
[]
[null,null,null,4,"WinHand","Win/Lose","Total",1,"WinHand","Win/Lose","Total",2,"WinHand","Win/Lose","Total",3,"WinHand","Win/Lose","Total",{"$f":"IF(COUNTIF(U64:X64,TRUE)>1,\"Fejl! (Feed)\",\"\")","v":""},{"$f":"E65","v":false},{"$f":"I65","v":false},{"$f":"M65","v":false},{"$f":"Q65","v":false},{"$f":"IF(E66<>\"\",$D$6,IF(I66<>\"\",$H$6,IF(M66<>\"\",$L$6,IF(Q66<>\"\",$P$6,\"I. S\"))))","v":"I. S"}]
[null,null,null,null,false,null,null,null,false,null,null,null,false,null,null,null,false,null,null,{"$f":"IF(SUM(U66:X66)>1,\"Fejl! (Wins)\",\"\")","v":""},{"$f":"E66","v":0},{"$f":"I66","v":0},{"$f":"M66","v":0},{"$f":"Q66","v":0},{"$f":"IF(E65,$D$6,IF(I65,$H$6,IF(M65,$L$6,IF(Q65,$P$6,\"Selvtræk\"))))","v":"Selvtræk"}]
[null,null,null,null,null,{"$f":"IF(AND($E66=\"\",$I66=\"\",$M66=\"\",$Q66=\"\"),\"\",IF(E66<>\"\",IF($Y65=\"Selvtræk\",(E66+8)*3,E66+24),IF(OR($E65,$I65,$M65,$Q65),IF(E65=TRUE,(SUM($U65:$X65)+8)*(-1),-8),(SUM($U65:$X65)+8)*(-1))))","v":""},{"$f":"IF(AND($E66=\"\",$I66=\"\",$M66=\"\",$Q66=\"\"),IF($C67=TRUE,0+G61,\"N. P.\"),G61+F66)","v":"N. P."},null,null,{"$f":"IF(AND($E66=\"\",$I66=\"\",$M66=\"\",$Q66=\"\"),\"\",IF(I66<>\"\",IF($Y65=\"Selvtræk\",(I66+8)*3,I66+24),IF(OR($E65,$I65,$M65,$Q65),IF(I65=TRUE,(SUM($U65:$X65)+8)*(-1),-8),(SUM($U65:$X65)+8)*(-1))))","v":""},{"$f":"IF(AND($E66=\"\",$I66=\"\",$M66=\"\",$Q66=\"\"),IF($C67=TRUE,0+K61,\"N. P.\"),K61+J66)","v":"N. P."},null,null,{"$f":"IF(AND($E66=\"\",$I66=\"\",$M66=\"\",$Q66=\"\"),\"\",IF(M66<>\"\",IF($Y65=\"Selvtræk\",(M66+8)*3,M66+24),IF(OR($E65,$I65,$M65,$Q65),IF(M65=TRUE,(SUM($U65:$X65)+8)*(-1),-8),(SUM($U65:$X65)+8)*(-1))))","v":""},{"$f":"IF(AND($E66=\"\",$I66=\"\",$M66=\"\",$Q66=\"\"),IF($C67=TRUE,0+O61,\"N. P.\"),O61+N66)","v":"N. P."},null,null,{"$f":"IF(AND($E66=\"\",$I66=\"\",$M66=\"\",$Q66=\"\"),\"\",IF(Q66<>\"\",IF($Y65=\"Selvtræk\",(Q66+8)*3,Q66+24),IF(OR($E65,$I65,$M65,$Q65),IF(Q65=TRUE,(SUM($U65:$X65)+8)*(-1),-8),(SUM($U65:$X65)+8)*(-1))))","v":""},{"$f":"IF(AND($E66=\"\",$I66=\"\",$M66=\"\",$Q66=\"\"),IF($C67=TRUE,0+S61,\"N. P.\"),S61+R66)","v":"N. P."},{"$f":"IF(SUM(U65:X65)>0,CONCATENATE(\"Chksum: \",F66+J66+N66+R66),\"\")","v":""},{"$f":"IF(U65>0,1,0)","v":0},{"$f":"IF(V65>0,1,0)","v":0},{"$f":"IF(W65>0,1,0)","v":0},{"$f":"IF(X65>0,1,0)","v":0}]
[null,null,false,null,{"$f":"IF(OR(AND(E65=TRUE,E66>0),AND(I65=TRUE,I66>0),AND(M65=TRUE,M66>0),AND(Q65=TRUE,Q66>0)),\"Fejl! Det er ikke muligt at vinde og feede på samme tid!\",IF(Y64=\"I. S\",IF(C67=TRUE,\"Ingen spillere gik Mahjong. Hånden gik ud!\",\"\"),IF(Y65=\"Selvtræk\",CONCATENATE(Y64,\" vandt \",(SUM(U65:X65)+8)*3,\" points på selvtræk. (\",SUM(U65:X65),\"-points hånd.)\"),CONCATENATE(Y64,\" vandt \",SUM(U65:X65)+24,\" points. \",Y65,\" feedede en \",SUM(U65:X65),\"-points hånd.\"))))","v":""}]
[]
[null,null,null,3,"WinHand","Win/Lose","Total",4,"WinHand","Win/Lose","Total",1,"WinHand","Win/Lose","Total",2,"WinHand","Win/Lose","Total",{"$f":"IF(COUNTIF(U69:X69,TRUE)>1,\"Fejl! (Feed)\",\"\")","v":""},{"$f":"E70","v":false},{"$f":"I70","v":false},{"$f":"M70","v":false},{"$f":"Q70","v":false},{"$f":"IF(E71<>\"\",$D$6,IF(I71<>\"\",$H$6,IF(M71<>\"\",$L$6,IF(Q71<>\"\",$P$6,\"I. S\"))))","v":"I. S"}]
[null,null,null,null,false,null,null,null,false,null,null,null,false,null,null,null,false,null,null,{"$f":"IF(SUM(U71:X71)>1,\"Fejl! (Wins)\",\"\")","v":""},{"$f":"E71","v":0},{"$f":"I71","v":0},{"$f":"M71","v":0},{"$f":"Q71","v":0},{"$f":"IF(E70,$D$6,IF(I70,$H$6,IF(M70,$L$6,IF(Q70,$P$6,\"Selvtræk\"))))","v":"Selvtræk"}]
[null,null,null,null,null,{"$f":"IF(AND($E71=\"\",$I71=\"\",$M71=\"\",$Q71=\"\"),\"\",IF(E71<>\"\",IF($Y70=\"Selvtræk\",(E71+8)*3,E71+24),IF(OR($E70,$I70,$M70,$Q70),IF(E70=TRUE,(SUM($U70:$X70)+8)*(-1),-8),(SUM($U70:$X70)+8)*(-1))))","v":""},{"$f":"IF(AND($E71=\"\",$I71=\"\",$M71=\"\",$Q71=\"\"),IF($C72=TRUE,0+G66,\"N. P.\"),G66+F71)","v":"N. P."},null,null,{"$f":"IF(AND($E71=\"\",$I71=\"\",$M71=\"\",$Q71=\"\"),\"\",IF(I71<>\"\",IF($Y70=\"Selvtræk\",(I71+8)*3,I71+24),IF(OR($E70,$I70,$M70,$Q70),IF(I70=TRUE,(SUM($U70:$X70)+8)*(-1),-8),(SUM($U70:$X70)+8)*(-1))))","v":""},{"$f":"IF(AND($E71=\"\",$I71=\"\",$M71=\"\",$Q71=\"\"),IF($C72=TRUE,0+K66,\"N. P.\"),K66+J71)","v":"N. P."},null,null,{"$f":"IF(AND($E71=\"\",$I71=\"\",$M71=\"\",$Q71=\"\"),\"\",IF(M71<>\"\",IF($Y70=\"Selvtræk\",(M71+8)*3,M71+24),IF(OR($E70,$I70,$M70,$Q70),IF(M70=TRUE,(SUM($U70:$X70)+8)*(-1),-8),(SUM($U70:$X70)+8)*(-1))))","v":""},{"$f":"IF(AND($E71=\"\",$I71=\"\",$M71=\"\",$Q71=\"\"),IF($C72=TRUE,0+O66,\"N. P.\"),O66+N71)","v":"N. P."},null,null,{"$f":"IF(AND($E71=\"\",$I71=\"\",$M71=\"\",$Q71=\"\"),\"\",IF(Q71<>\"\",IF($Y70=\"Selvtræk\",(Q71+8)*3,Q71+24),IF(OR($E70,$I70,$M70,$Q70),IF(Q70=TRUE,(SUM($U70:$X70)+8)*(-1),-8),(SUM($U70:$X70)+8)*(-1))))","v":""},{"$f":"IF(AND($E71=\"\",$I71=\"\",$M71=\"\",$Q71=\"\"),IF($C72=TRUE,0+S66,\"N. P.\"),S66+R71)","v":"N. P."},{"$f":"IF(SUM(U70:X70)>0,CONCATENATE(\"Chksum: \",F71+J71+N71+R71),\"\")","v":""},{"$f":"IF(U70>0,1,0)","v":0},{"$f":"IF(V70>0,1,0)","v":0},{"$f":"IF(W70>0,1,0)","v":0},{"$f":"IF(X70>0,1,0)","v":0}]
[null,null,false,null,{"$f":"IF(OR(AND(E70=TRUE,E71>0),AND(I70=TRUE,I71>0),AND(M70=TRUE,M71>0),AND(Q70=TRUE,Q71>0)),\"Fejl! Det er ikke muligt at vinde og feede på samme tid!\",IF(Y69=\"I. S\",IF(C72=TRUE,\"Ingen spillere gik Mahjong. Hånden gik ud!\",\"\"),IF(Y70=\"Selvtræk\",CONCATENATE(Y69,\" vandt \",(SUM(U70:X70)+8)*3,\" points på selvtræk. (\",SUM(U70:X70),\"-points hånd.)\"),CONCATENATE(Y69,\" vandt \",SUM(U70:X70)+24,\" points. \",Y70,\" feedede en \",SUM(U70:X70),\"-points hånd.\"))))","v":""}]
[]
[null,null,null,2,"WinHand","Win/Lose","Total",3,"WinHand","Win/Lose","Total",4,"WinHand","Win/Lose","Total",1,"WinHand","Win/Lose","Total",{"$f":"IF(COUNTIF(U74:X74,TRUE)>1,\"Fejl! (Feed)\",\"\")","v":""},{"$f":"E75","v":false},{"$f":"I75","v":false},{"$f":"M75","v":false},{"$f":"Q75","v":false},{"$f":"IF(E76<>\"\",$D$6,IF(I76<>\"\",$H$6,IF(M76<>\"\",$L$6,IF(Q76<>\"\",$P$6,\"I. S\"))))","v":"I. S"}]
[null,null,null,null,false,null,null,null,false,null,null,null,false,null,null,null,false,null,null,{"$f":"IF(SUM(U76:X76)>1,\"Fejl! (Wins)\",\"\")","v":""},{"$f":"E76","v":0},{"$f":"I76","v":0},{"$f":"M76","v":0},{"$f":"Q76","v":0},{"$f":"IF(E75,$D$6,IF(I75,$H$6,IF(M75,$L$6,IF(Q75,$P$6,\"Selvtræk\"))))","v":"Selvtræk"}]
[null,null,null,null,null,{"$f":"IF(AND($E76=\"\",$I76=\"\",$M76=\"\",$Q76=\"\"),\"\",IF(E76<>\"\",IF($Y75=\"Selvtræk\",(E76+8)*3,E76+24),IF(OR($E75,$I75,$M75,$Q75),IF(E75=TRUE,(SUM($U75:$X75)+8)*(-1),-8),(SUM($U75:$X75)+8)*(-1))))","v":""},{"$f":"IF(AND($E76=\"\",$I76=\"\",$M76=\"\",$Q76=\"\"),IF($C77=TRUE,0+G71,\"N. P.\"),G71+F76)","v":"N. P."},null,null,{"$f":"IF(AND($E76=\"\",$I76=\"\",$M76=\"\",$Q76=\"\"),\"\",IF(I76<>\"\",IF($Y75=\"Selvtræk\",(I76+8)*3,I76+24),IF(OR($E75,$I75,$M75,$Q75),IF(I75=TRUE,(SUM($U75:$X75)+8)*(-1),-8),(SUM($U75:$X75)+8)*(-1))))","v":""},{"$f":"IF(AND($E76=\"\",$I76=\"\",$M76=\"\",$Q76=\"\"),IF($C77=TRUE,0+K71,\"N. P.\"),K71+J76)","v":"N. P."},null,null,{"$f":"IF(AND($E76=\"\",$I76=\"\",$M76=\"\",$Q76=\"\"),\"\",IF(M76<>\"\",IF($Y75=\"Selvtræk\",(M76+8)*3,M76+24),IF(OR($E75,$I75,$M75,$Q75),IF(M75=TRUE,(SUM($U75:$X75)+8)*(-1),-8),(SUM($U75:$X75)+8)*(-1))))","v":""},{"$f":"IF(AND($E76=\"\",$I76=\"\",$M76=\"\",$Q76=\"\"),IF($C77=TRUE,0+O71,\"N. P.\"),O71+N76)","v":"N. P."},null,null,{"$f":"IF(AND($E76=\"\",$I76=\"\",$M76=\"\",$Q76=\"\"),\"\",IF(Q76<>\"\",IF($Y75=\"Selvtræk\",(Q76+8)*3,Q76+24),IF(OR($E75,$I75,$M75,$Q75),IF(Q75=TRUE,(SUM($U75:$X75)+8)*(-1),-8),(SUM($U75:$X75)+8)*(-1))))","v":""},{"$f":"IF(AND($E76=\"\",$I76=\"\",$M76=\"\",$Q76=\"\"),IF($C77=TRUE,0+S71,\"N. P.\"),S71+R76)","v":"N. P."},{"$f":"IF(SUM(U75:X75)>0,CONCATENATE(\"Chksum: \",F76+J76+N76+R76),\"\")","v":""},{"$f":"IF(U75>0,1,0)","v":0},{"$f":"IF(V75>0,1,0)","v":0},{"$f":"IF(W75>0,1,0)","v":0},{"$f":"IF(X75>0,1,0)","v":0}]
[null,null,false,null,{"$f":"IF(OR(AND(E75=TRUE,E76>0),AND(I75=TRUE,I76>0),AND(M75=TRUE,M76>0),AND(Q75=TRUE,Q76>0)),\"Fejl! Det er ikke muligt at vinde og feede på samme tid!\",IF(Y74=\"I. S\",IF(C77=TRUE,\"Ingen spillere gik Mahjong. Hånden gik ud!\",\"\"),IF(Y75=\"Selvtræk\",CONCATENATE(Y74,\" vandt \",(SUM(U75:X75)+8)*3,\" points på selvtræk. (\",SUM(U75:X75),\"-points hånd.)\"),CONCATENATE(Y74,\" vandt \",SUM(U75:X75)+24,\" points. \",Y75,\" feedede en \",SUM(U75:X75),\"-points hånd.\"))))","v":""}]
[]
[null,null,null,"West Round - Result"]
[null,null,null,null,{"$f":"CONCATENATE(D58,\":\")","v":"East:"},null,{"$f":"G76","v":"N. P."},null,{"$f":"CONCATENATE(H58,\":\")","v":"South:"},null,{"$f":"K76","v":"N. P."},null,{"$f":"CONCATENATE(L58,\":\")","v":"West:"},null,{"$f":"O76","v":"N. P."},null,{"$f":"CONCATENATE(P58,\":\")","v":"North:"},null,{"$f":"S76","v":"N. P."}]
[]
[null,"East",null,null,{"$f":"CONCATENATE($D$30,\":\")","v":"East:"},null,{"$f":"$G$28","v":"N. P."},null,{"$f":"CONCATENATE($H$30,\":\")","v":"South:"},null,{"$f":"$K$28","v":"N. P."},null,{"$f":"CONCATENATE($L$30,\":\")","v":"West:"},null,{"$f":"$O$28","v":"N. P."},null,{"$f":"CONCATENATE($P$30,\":\")","v":"North:"},null,{"$f":"$S$28","v":"N. P."}]
[null,"South",null,null,{"$f":"CONCATENATE($D$30,\":\")","v":"East:"},null,{"$f":"$G$55","v":"N. P."},null,{"$f":"CONCATENATE($H$30,\":\")","v":"South:"},null,{"$f":"$K$55","v":"N. P."},null,{"$f":"CONCATENATE($L$30,\":\")","v":"West:"},null,{"$f":"$O$55","v":"N. P."},null,{"$f":"CONCATENATE($P$30,\":\")","v":"North:"},null,{"$f":"$S$55","v":"N. P."}]
[null,"West",null,null,{"$f":"CONCATENATE($D$30,\":\")","v":"East:"},null,{"$f":"$G$80","v":"N. P."},null,{"$f":"CONCATENATE($H$30,\":\")","v":"South:"},null,{"$f":"$K$80","v":"N. P."},null,{"$f":"CONCATENATE($L$30,\":\")","v":"West:"},null,{"$f":"$O$80","v":"N. P."},null,{"$f":"CONCATENATE($P$30,\":\")","v":"North:"},null,{"$f":"$S$80","v":"N. P."}]
[null,"Total",null,null,{"$f":"CONCATENATE($D$30,\":\")","v":"East:"},null,{"$f":"SUM(G82:G84)","v":0},null,{"$f":"CONCATENATE($H$30,\":\")","v":"South:"},null,{"$f":"SUM(K82:K84)","v":0},null,{"$f":"CONCATENATE($L$30,\":\")","v":"West:"},null,{"$f":"SUM(O82:O84)","v":0},null,{"$f":"CONCATENATE($P$30,\":\")","v":"North:"},null,{"$f":"SUM(S82:S84)","v":0}]
[]
[null,null,"Zero",{"$f":"D58","v":"East"},null,null,null,{"$f":"H58","v":"South"},null,null,null,{"$f":"L58","v":"West"},null,null,null,{"$f":"P58","v":"North"},null,null,null,"Kontrol"]
[null,"North Round",null,1,"WinHand","Win/Lose","Total",2,"WinHand","Win/Lose","Total",3,"WinHand","Win/Lose","Total",4,"WinHand","Win/Lose","Total",{"$f":"IF(COUNTIF(U88:X88,TRUE)>1,\"Fejl! (Feed)\",\"\")","v":""},{"$f":"E89","v":false},{"$f":"I89","v":false},{"$f":"M89","v":false},{"$f":"Q89","v":false},{"$f":"IF(E90<>\"\",$D$6,IF(I90<>\"\",$H$6,IF(M90<>\"\",$L$6,IF(Q90<>\"\",$P$6,\"I. S\"))))","v":"I. S"}]
[null,null,null,null,false,null,null,null,false,null,null,null,false,null,null,null,false,null,null,{"$f":"IF(SUM(U90:X90)>1,\"Fejl! (Wins)\",\"\")","v":""},{"$f":"E90","v":0},{"$f":"I90","v":0},{"$f":"M90","v":0},{"$f":"Q90","v":0},{"$f":"IF(E89,$D$6,IF(I89,$H$6,IF(M89,$L$6,IF(Q89,$P$6,\"Selvtræk\"))))","v":"Selvtræk"}]
[null,null,null,null,null,{"$f":"IF(AND($E90=\"\",$I90=\"\",$M90=\"\",$Q90=\"\"),\"\",IF(E90<>\"\",IF($Y89=\"Selvtræk\",(E90+8)*3,E90+24),IF(OR($E89,$I89,$M89,$Q89),IF(E89=TRUE,(SUM($U89:$X89)+8)*(-1),-8),(SUM($U89:$X89)+8)*(-1))))","v":""},{"$f":"IF(AND($E90=\"\",$I90=\"\",$M90=\"\",$Q90=\"\"),IF($C91,0,\"N. P.\"),IF(E90>0,IF(OR($E89,$I89,$M89,$Q89),E90+24,(E90+8)*3),F90))","v":"N. P."},null,null,{"$f":"IF(AND($E90=\"\",$I90=\"\",$M90=\"\",$Q90=\"\"),\"\",IF(I90<>\"\",IF($Y89=\"Selvtræk\",(I90+8)*3,I90+24),IF(OR($E89,$I89,$M89,$Q89),IF(I89=TRUE,(SUM($U89:$X89)+8)*(-1),-8),(SUM($U89:$X89)+8)*(-1))))","v":""},{"$f":"IF(AND($E90=\"\",$I90=\"\",$M90=\"\",$Q90=\"\"),IF($C91,0,\"N. P.\"),IF(I90>0,IF(OR($E89,$I89,$M89,$Q89),I90+24,(I90+8)*3),J90))","v":"N. P."},null,null,{"$f":"IF(AND($E90=\"\",$I90=\"\",$M90=\"\",$Q90=\"\"),\"\",IF(M90<>\"\",IF($Y89=\"Selvtræk\",(M90+8)*3,M90+24),IF(OR($E89,$I89,$M89,$Q89),IF(M89=TRUE,(SUM($U89:$X89)+8)*(-1),-8),(SUM($U89:$X89)+8)*(-1))))","v":""},{"$f":"IF(AND($E90=\"\",$I90=\"\",$M90=\"\",$Q90=\"\"),IF($C91,0,\"N. P.\"),IF(M90>0,IF(OR($E89,$I89,$M89,$Q89),M90+24,(M90+8)*3),N90))","v":"N. P."},null,null,{"$f":"IF(AND($E90=\"\",$I90=\"\",$M90=\"\",$Q90=\"\"),\"\",IF(Q90<>\"\",IF($Y89=\"Selvtræk\",(Q90+8)*3,Q90+24),IF(OR($E89,$I89,$M89,$Q89),IF(Q89=TRUE,(SUM($U89:$X89)+8)*(-1),-8),(SUM($U89:$X89)+8)*(-1))))","v":""},{"$f":"IF(AND($E90=\"\",$I90=\"\",$M90=\"\",$Q90=\"\"),IF($C91,0,\"N. P.\"),IF(Q90>0,IF(OR($E89,$I89,$M89,$Q89),Q90+24,(Q90+8)*3),R90))","v":"N. P."},{"$f":"IF(SUM(U89:X89)>0,CONCATENATE(\"Chksum: \",F90+J90+N90+R90),\"\")","v":""},{"$f":"IF(U89>0,1,0)","v":0},{"$f":"IF(V89>0,1,0)","v":0},{"$f":"IF(W89>0,1,0)","v":0},{"$f":"IF(X89>0,1,0)","v":0}]
[null,null,false,null,{"$f":"IF(OR(AND(E89=TRUE,E90>0),AND(I89=TRUE,I90>0),AND(M89=TRUE,M90>0),AND(Q89=TRUE,Q90>0)),\"Fejl! Det er ikke muligt at vinde og feede på samme tid!\",IF(Y88=\"I. S\",IF(C91=TRUE,\"Ingen spillere gik Mahjong. Hånden gik ud!\",\"\"),IF(Y89=\"Selvtræk\",CONCATENATE(Y88,\" vandt \",(SUM(U89:X89)+8)*3,\" points på selvtræk. (\",SUM(U89:X89),\"-points hånd.)\"),CONCATENATE(Y88,\" vandt \",SUM(U89:X89)+24,\" points. \",Y89,\" feedede en \",SUM(U89:X89),\"-points hånd.\"))))","v":""}]
[]
[null,null,null,4,"WinHand","Win/Lose","Total",1,"WinHand","Win/Lose","Total",2,"WinHand","Win/Lose","Total",3,"WinHand","Win/Lose","Total",{"$f":"IF(COUNTIF(U93:X93,TRUE)>1,\"Fejl! (Feed)\",\"\")","v":""},{"$f":"E94","v":false},{"$f":"I94","v":false},{"$f":"M94","v":false},{"$f":"Q94","v":false},{"$f":"IF(E95<>\"\",$D$6,IF(I95<>\"\",$H$6,IF(M95<>\"\",$L$6,IF(Q95<>\"\",$P$6,\"I. S\"))))","v":"I. S"}]
[null,null,null,null,false,null,null,null,false,null,null,null,false,null,null,null,false,null,null,{"$f":"IF(SUM(U95:X95)>1,\"Fejl! (Wins)\",\"\")","v":""},{"$f":"E95","v":0},{"$f":"I95","v":0},{"$f":"M95","v":0},{"$f":"Q95","v":0},{"$f":"IF(E94,$D$6,IF(I94,$H$6,IF(M94,$L$6,IF(Q94,$P$6,\"Selvtræk\"))))","v":"Selvtræk"}]
[null,null,null,null,null,{"$f":"IF(AND($E95=\"\",$I95=\"\",$M95=\"\",$Q95=\"\"),\"\",IF(E95<>\"\",IF($Y94=\"Selvtræk\",(E95+8)*3,E95+24),IF(OR($E94,$I94,$M94,$Q94),IF(E94=TRUE,(SUM($U94:$X94)+8)*(-1),-8),(SUM($U94:$X94)+8)*(-1))))","v":""},{"$f":"IF(AND($E95=\"\",$I95=\"\",$M95=\"\",$Q95=\"\"),IF($C96=TRUE,0+G90,\"N. P.\"),G90+F95)","v":"N. P."},null,null,{"$f":"IF(AND($E95=\"\",$I95=\"\",$M95=\"\",$Q95=\"\"),\"\",IF(I95<>\"\",IF($Y94=\"Selvtræk\",(I95+8)*3,I95+24),IF(OR($E94,$I94,$M94,$Q94),IF(I94=TRUE,(SUM($U94:$X94)+8)*(-1),-8),(SUM($U94:$X94)+8)*(-1))))","v":""},{"$f":"IF(AND($E95=\"\",$I95=\"\",$M95=\"\",$Q95=\"\"),IF($C96=TRUE,0+K90,\"N. P.\"),K90+J95)","v":"N. P."},null,null,{"$f":"IF(AND($E95=\"\",$I95=\"\",$M95=\"\",$Q95=\"\"),\"\",IF(M95<>\"\",IF($Y94=\"Selvtræk\",(M95+8)*3,M95+24),IF(OR($E94,$I94,$M94,$Q94),IF(M94=TRUE,(SUM($U94:$X94)+8)*(-1),-8),(SUM($U94:$X94)+8)*(-1))))","v":""},{"$f":"IF(AND($E95=\"\",$I95=\"\",$M95=\"\",$Q95=\"\"),IF($C96=TRUE,0+O90,\"N. P.\"),O90+N95)","v":"N. P."},null,null,{"$f":"IF(AND($E95=\"\",$I95=\"\",$M95=\"\",$Q95=\"\"),\"\",IF(Q95<>\"\",IF($Y94=\"Selvtræk\",(Q95+8)*3,Q95+24),IF(OR($E94,$I94,$M94,$Q94),IF(Q94=TRUE,(SUM($U94:$X94)+8)*(-1),-8),(SUM($U94:$X94)+8)*(-1))))","v":""},{"$f":"IF(AND($E95=\"\",$I95=\"\",$M95=\"\",$Q95=\"\"),IF($C96=TRUE,0+S90,\"N. P.\"),S90+R95)","v":"N. P."},{"$f":"IF(SUM(U94:X94)>0,CONCATENATE(\"Chksum: \",F95+J95+N95+R95),\"\")","v":""},{"$f":"IF(U94>0,1,0)","v":0},{"$f":"IF(V94>0,1,0)","v":0},{"$f":"IF(W94>0,1,0)","v":0},{"$f":"IF(X94>0,1,0)","v":0}]
[null,null,false,null,{"$f":"IF(OR(AND(E94=TRUE,E95>0),AND(I94=TRUE,I95>0),AND(M94=TRUE,M95>0),AND(Q94=TRUE,Q95>0)),\"Fejl! Det er ikke muligt at vinde og feede på samme tid!\",IF(Y93=\"I. S\",IF(C96=TRUE,\"Ingen spillere gik Mahjong. Hånden gik ud!\",\"\"),IF(Y94=\"Selvtræk\",CONCATENATE(Y93,\" vandt \",(SUM(U94:X94)+8)*3,\" points på selvtræk. (\",SUM(U94:X94),\"-points hånd.)\"),CONCATENATE(Y93,\" vandt \",SUM(U94:X94)+24,\" points. \",Y94,\" feedede en \",SUM(U94:X94),\"-points hånd.\"))))","v":""}]
[]
[null,null,null,3,"WinHand","Win/Lose","Total",4,"WinHand","Win/Lose","Total",1,"WinHand","Win/Lose","Total",2,"WinHand","Win/Lose","Total",{"$f":"IF(COUNTIF(U98:X98,TRUE)>1,\"Fejl! (Feed)\",\"\")","v":""},{"$f":"E99","v":false},{"$f":"I99","v":false},{"$f":"M99","v":false},{"$f":"Q99","v":false},{"$f":"IF(E100<>\"\",$D$6,IF(I100<>\"\",$H$6,IF(M100<>\"\",$L$6,IF(Q100<>\"\",$P$6,\"I. S\"))))","v":"I. S"}]
[null,null,null,null,false,null,null,null,false,null,null,null,false,null,null,null,false,null,null,{"$f":"IF(SUM(U100:X100)>1,\"Fejl! (Wins)\",\"\")","v":""},{"$f":"E100","v":0},{"$f":"I100","v":0},{"$f":"M100","v":0},{"$f":"Q100","v":0},{"$f":"IF(E99,$D$6,IF(I99,$H$6,IF(M99,$L$6,IF(Q99,$P$6,\"Selvtræk\"))))","v":"Selvtræk"}]
[null,null,null,null,null,{"$f":"IF(AND($E100=\"\",$I100=\"\",$M100=\"\",$Q100=\"\"),\"\",IF(E100<>\"\",IF($Y99=\"Selvtræk\",(E100+8)*3,E100+24),IF(OR($E99,$I99,$M99,$Q99),IF(E99=TRUE,(SUM($U99:$X99)+8)*(-1),-8),(SUM($U99:$X99)+8)*(-1))))","v":""},{"$f":"IF(AND($E100=\"\",$I100=\"\",$M100=\"\",$Q100=\"\"),IF($C101=TRUE,0+G95,\"N. P.\"),G95+F100)","v":"N. P."},null,null,{"$f":"IF(AND($E100=\"\",$I100=\"\",$M100=\"\",$Q100=\"\"),\"\",IF(I100<>\"\",IF($Y99=\"Selvtræk\",(I100+8)*3,I100+24),IF(OR($E99,$I99,$M99,$Q99),IF(I99=TRUE,(SUM($U99:$X99)+8)*(-1),-8),(SUM($U99:$X99)+8)*(-1))))","v":""},{"$f":"IF(AND($E100=\"\",$I100=\"\",$M100=\"\",$Q100=\"\"),IF($C101=TRUE,0+K95,\"N. P.\"),K95+J100)","v":"N. P."},null,null,{"$f":"IF(AND($E100=\"\",$I100=\"\",$M100=\"\",$Q100=\"\"),\"\",IF(M100<>\"\",IF($Y99=\"Selvtræk\",(M100+8)*3,M100+24),IF(OR($E99,$I99,$M99,$Q99),IF(M99=TRUE,(SUM($U99:$X99)+8)*(-1),-8),(SUM($U99:$X99)+8)*(-1))))","v":""},{"$f":"IF(AND($E100=\"\",$I100=\"\",$M100=\"\",$Q100=\"\"),IF($C101=TRUE,0+O95,\"N. P.\"),O95+N100)","v":"N. P."},null,null,{"$f":"IF(AND($E100=\"\",$I100=\"\",$M100=\"\",$Q100=\"\"),\"\",IF(Q100<>\"\",IF($Y99=\"Selvtræk\",(Q100+8)*3,Q100+24),IF(OR($E99,$I99,$M99,$Q99),IF(Q99=TRUE,(SUM($U99:$X99)+8)*(-1),-8),(SUM($U99:$X99)+8)*(-1))))","v":""},{"$f":"IF(AND($E100=\"\",$I100=\"\",$M100=\"\",$Q100=\"\"),IF($C101=TRUE,0+S95,\"N. P.\"),S95+R100)","v":"N. P."},{"$f":"IF(SUM(U99:X99)>0,CONCATENATE(\"Chksum: \",F100+J100+N100+R100),\"\")","v":""},{"$f":"IF(U99>0,1,0)","v":0},{"$f":"IF(V99>0,1,0)","v":0},{"$f":"IF(W99>0,1,0)","v":0},{"$f":"IF(X99>0,1,0)","v":0}]
[null,null,false,null,{"$f":"IF(OR(AND(E99=TRUE,E100>0),AND(I99=TRUE,I100>0),AND(M99=TRUE,M100>0),AND(Q99=TRUE,Q100>0)),\"Fejl! Det er ikke muligt at vinde og feede på samme tid!\",IF(Y98=\"I. S\",IF(C101=TRUE,\"Ingen spillere gik Mahjong. Hånden gik ud!\",\"\"),IF(Y99=\"Selvtræk\",CONCATENATE(Y98,\" vandt \",(SUM(U99:X99)+8)*3,\" points på selvtræk. (\",SUM(U99:X99),\"-points hånd.)\"),CONCATENATE(Y98,\" vandt \",SUM(U99:X99)+24,\" points. \",Y99,\" feedede en \",SUM(U99:X99),\"-points hånd.\"))))","v":""}]
[]
[null,null,null,2,"WinHand","Win/Lose","Total",3,"WinHand","Win/Lose","Total",4,"WinHand","Win/Lose","Total",1,"WinHand","Win/Lose","Total",{"$f":"IF(COUNTIF(U103:X103,TRUE)>1,\"Fejl! (Feed)\",\"\")","v":""},{"$f":"E104","v":false},{"$f":"I104","v":false},{"$f":"M104","v":false},{"$f":"Q104","v":false},{"$f":"IF(E105<>\"\",$D$6,IF(I105<>\"\",$H$6,IF(M105<>\"\",$L$6,IF(Q105<>\"\",$P$6,\"I. S\"))))","v":"I. S"}]
[null,null,null,null,false,null,null,null,false,null,null,null,false,null,null,null,false,null,null,{"$f":"IF(SUM(U105:X105)>1,\"Fejl! (Wins)\",\"\")","v":""},{"$f":"E105","v":0},{"$f":"I105","v":0},{"$f":"M105","v":0},{"$f":"Q105","v":0},{"$f":"IF(E104,$D$6,IF(I104,$H$6,IF(M104,$L$6,IF(Q104,$P$6,\"Selvtræk\"))))","v":"Selvtræk"}]
[null,null,null,null,null,{"$f":"IF(AND($E105=\"\",$I105=\"\",$M105=\"\",$Q105=\"\"),\"\",IF(E105<>\"\",IF($Y104=\"Selvtræk\",(E105+8)*3,E105+24),IF(OR($E104,$I104,$M104,$Q104),IF(E104=TRUE,(SUM($U104:$X104)+8)*(-1),-8),(SUM($U104:$X104)+8)*(-1))))","v":""},{"$f":"IF(AND($E105=\"\",$I105=\"\",$M105=\"\",$Q105=\"\"),IF($C106=TRUE,0+G100,\"N. P.\"),G100+F105)","v":"N. P."},null,null,{"$f":"IF(AND($E105=\"\",$I105=\"\",$M105=\"\",$Q105=\"\"),\"\",IF(I105<>\"\",IF($Y104=\"Selvtræk\",(I105+8)*3,I105+24),IF(OR($E104,$I104,$M104,$Q104),IF(I104=TRUE,(SUM($U104:$X104)+8)*(-1),-8),(SUM($U104:$X104)+8)*(-1))))","v":""},{"$f":"IF(AND($E105=\"\",$I105=\"\",$M105=\"\",$Q105=\"\"),IF($C106=TRUE,0+K100,\"N. P.\"),K100+J105)","v":"N. P."},null,null,{"$f":"IF(AND($E105=\"\",$I105=\"\",$M105=\"\",$Q105=\"\"),\"\",IF(M105<>\"\",IF($Y104=\"Selvtræk\",(M105+8)*3,M105+24),IF(OR($E104,$I104,$M104,$Q104),IF(M104=TRUE,(SUM($U104:$X104)+8)*(-1),-8),(SUM($U104:$X104)+8)*(-1))))","v":""},{"$f":"IF(AND($E105=\"\",$I105=\"\",$M105=\"\",$Q105=\"\"),IF($C106=TRUE,0+O100,\"N. P.\"),O100+N105)","v":"N. P."},null,null,{"$f":"IF(AND($E105=\"\",$I105=\"\",$M105=\"\",$Q105=\"\"),\"\",IF(Q105<>\"\",IF($Y104=\"Selvtræk\",(Q105+8)*3,Q105+24),IF(OR($E104,$I104,$M104,$Q104),IF(Q104=TRUE,(SUM($U104:$X104)+8)*(-1),-8),(SUM($U104:$X104)+8)*(-1))))","v":""},{"$f":"IF(AND($E105=\"\",$I105=\"\",$M105=\"\",$Q105=\"\"),IF($C106=TRUE,0+S100,\"N. P.\"),S100+R105)","v":"N. P."},{"$f":"IF(SUM(U104:X104)>0,CONCATENATE(\"Chksum: \",F105+J105+N105+R105),\"\")","v":""},{"$f":"IF(U104>0,1,0)","v":0},{"$f":"IF(V104>0,1,0)","v":0},{"$f":"IF(W104>0,1,0)","v":0},{"$f":"IF(X104>0,1,0)","v":0}]
[null,null,false,null,{"$f":"IF(OR(AND(E104=TRUE,E105>0),AND(I104=TRUE,I105>0),AND(M104=TRUE,M105>0),AND(Q104=TRUE,Q105>0)),\"Fejl! Det er ikke muligt at vinde og feede på samme tid!\",IF(Y103=\"I. S\",IF(C106=TRUE,\"Ingen spillere gik Mahjong. Hånden gik ud!\",\"\"),IF(Y104=\"Selvtræk\",CONCATENATE(Y103,\" vandt \",(SUM(U104:X104)+8)*3,\" points på selvtræk. (\",SUM(U104:X104),\"-points hånd.)\"),CONCATENATE(Y103,\" vandt \",SUM(U104:X104)+24,\" points. \",Y104,\" feedede en \",SUM(U104:X104),\"-points hånd.\"))))","v":""}]
[]
[null,null,null,"North Round - Result"]
[null,null,null,null,{"$f":"CONCATENATE(D87,\":\")","v":"East:"},null,{"$f":"G105","v":"N. P."},null,{"$f":"CONCATENATE(H87,\":\")","v":"South:"},null,{"$f":"K105","v":"N. P."},null,{"$f":"CONCATENATE(L87,\":\")","v":"West:"},null,{"$f":"O105","v":"N. P."},null,{"$f":"CONCATENATE(P87,\":\")","v":"North:"},null,{"$f":"S105","v":"N. P."}]
[]
[null,"East",null,null,{"$f":"CONCATENATE($D$30,\":\")","v":"East:"},null,{"$f":"$G$28","v":"N. P."},null,{"$f":"CONCATENATE($H$30,\":\")","v":"South:"},null,{"$f":"$K$28","v":"N. P."},null,{"$f":"CONCATENATE($L$30,\":\")","v":"West:"},null,{"$f":"$O$28","v":"N. P."},null,{"$f":"CONCATENATE($P$30,\":\")","v":"North:"},null,{"$f":"$S$28","v":"N. P."}]
[null,"South",null,null,{"$f":"CONCATENATE($D$30,\":\")","v":"East:"},null,{"$f":"$G$55","v":"N. P."},null,{"$f":"CONCATENATE($H$30,\":\")","v":"South:"},null,{"$f":"$K$55","v":"N. P."},null,{"$f":"CONCATENATE($L$30,\":\")","v":"West:"},null,{"$f":"$O$55","v":"N. P."},null,{"$f":"CONCATENATE($P$30,\":\")","v":"North:"},null,{"$f":"$S$55","v":"N. P."}]
[null,"West",null,null,{"$f":"CONCATENATE($D$30,\":\")","v":"East:"},null,{"$f":"$G$80","v":"N. P."},null,{"$f":"CONCATENATE($H$30,\":\")","v":"South:"},null,{"$f":"$K$80","v":"N. P."},null,{"$f":"CONCATENATE($L$30,\":\")","v":"West:"},null,{"$f":"$O$80","v":"N. P."},null,{"$f":"CONCATENATE($P$30,\":\")","v":"North:"},null,{"$f":"$S$80","v":"N. P."}]
[null,"North",null,null,{"$f":"CONCATENATE($D$30,\":\")","v":"East:"},null,{"$f":"G109","v":"N. P."},null,{"$f":"CONCATENATE($H$30,\":\")","v":"South:"},null,{"$f":"K109","v":"N. P."},null,{"$f":"CONCATENATE($L$30,\":\")","v":"West:"},null,{"$f":"O109","v":"N. P."},null,{"$f":"CONCATENATE($P$30,\":\")","v":"North:"},null,{"$f":"S109","v":"N. P."}]
[null,"Total",null,null,{"$f":"CONCATENATE($D$30,\":\")","v":"East:"},null,{"$f":"SUM(G111:G114)","v":0},null,{"$f":"CONCATENATE($H$30,\":\")","v":"South:"},null,{"$f":"SUM(K111:K114)","v":0},null,{"$f":"CONCATENATE($L$30,\":\")","v":"West:"},null,{"$f":"SUM(O111:O114)","v":0},null,{"$f":"CONCATENATE($P$30,\":\")","v":"North:"},null,{"$f":"SUM(S111:S114)","v":0}]

{"sheet":"Ark1","index":1,"n_rows":22,"n_cols":19,"rows_kept":22,"cut":false,"hidden":false,"merged":[[1,0,1,3],[1,4,1,7],[1,8,1,11],[1,12,1,15]]}
[]
[{"$f":"Score!D6","v":"East"},null,null,null,{"$f":"Score!H6","v":"South"},null,null,null,{"$f":"Score!L6","v":"West"},null,null,null,{"$f":"Score!P6","v":"North"}]
[]
[1,{"$f":"IF(Score!G9=\"N. P.\",\"\",IF(Score!$E$10=\"Ingen spillere gik Mahjong. Hånden gik ud!\",\"0\",IF(Score!F9<0,Score!F9,CONCATENATE(\"+\",Score!F9))))","v":""},{"$f":"IF(Score!$G$9=\"N. P.\",\"\",\"/\")","v":""},{"$f":"B4","v":""},2,{"$f":"IF(Score!K9=\"N. P.\",\"\",IF(Score!$E$10=\"Ingen spillere gik Mahjong. Hånden gik ud!\",\"0\",IF(Score!J9<0,Score!J9,CONCATENATE(\"+\",Score!J9))))","v":""},{"$f":"IF(Score!$G$9=\"N. P.\",\"\",\"/\")","v":""},{"$f":"F4","v":""},3,{"$f":"IF(Score!O9=\"N. P.\",\"\",IF(Score!$E$10=\"Ingen spillere gik Mahjong. Hånden gik ud!\",\"0\",IF(Score!N9<0,Score!N9,CONCATENATE(\"+\",Score!N9))))","v":""},{"$f":"IF(Score!$G$9=\"N. P.\",\"\",\"/\")","v":""},{"$f":"J4","v":""},4,{"$f":"IF(Score!S9=\"N. P.\",\"\",IF(Score!$E$10=\"Ingen spillere gik Mahjong. Hånden gik ud!\",\"0\",IF(Score!R9<0,Score!R9,CONCATENATE(\"+\",Score!R9))))","v":""},{"$f":"IF(Score!$G$9=\"N. P.\",\"\",\"/\")","v":""},{"$f":"N4","v":""},{"$f":"IF(Score!G9=\"N. P.\",\"\",IF(Score!E10=\"Ingen spillere gik Mahjong. Hånden gik ud!\",\"\",IF(Score!Y8=\"Selvtræk\",\"P\",\"\")))","v":""},{"$f":"IF(Score!E10=\"Ingen spillere gik Mahjong. Hånden gik ud!\",\"K\",\"\")","v":""},{"$f":"IF(R4=\"K\",\"\",Score!E10)","v":""}]
[4,{"$f":"IF(Score!$C$15,0,IF(SUM(Score!$U14:$X14)=0,\"\",IF(Score!F14<=0,Score!F14,CONCATENATE(\"+\",Score!F14))))","v":""},{"$f":"IF(Score!$G$14=\"N. P.\",\"\",\"/\")","v":""},{"$f":"IF(B5=\"\",\"\",IF(D4=\"\",\"\",IF(D4+B5<=0,D4+B5,CONCATENATE(\"+\",D4+B5))))","v":""},1,{"$f":"IF(Score!$C$15,0,IF(SUM(Score!$U14:$X14)=0,\"\",IF(Score!J14<=0,Score!J14,CONCATENATE(\"+\",Score!J14))))","v":""},{"$f":"IF(Score!$G$14=\"N. P.\",\"\",\"/\")","v":""},{"$f":"IF(F5=\"\",\"\",IF(H4=\"\",\"\",IF(H4+F5<=0,H4+F5,CONCATENATE(\"+\",H4+F5))))","v":""},2,{"$f":"IF(Score!$C$15,0,IF(SUM(Score!$U14:$X14)=0,\"\",IF(Score!N14<=0,Score!N14,CONCATENATE(\"+\",Score!N14))))","v":""},{"$f":"IF(Score!$G$14=\"N. P.\",\"\",\"/\")","v":""},{"$f":"IF(J5=\"\",\"\",IF(L4=\"\",\"\",IF(L4+J5<=0,L4+J5,CONCATENATE(\"+\",L4+J5))))","v":""},3,{"$f":"IF(Score!$C$15,0,IF(SUM(Score!$U14:$X14)=0,\"\",IF(Score!R14<=0,Score!R14,CONCATENATE(\"+\",Score!R14))))","v":""},{"$f":"IF(Score!$G$14=\"N. P.\",\"\",\"/\")","v":""},{"$f":"IF(N5=\"\",\"\",IF(P4=\"\",\"\",IF(P4+N5<=0,P4+N5,CONCATENATE(\"+\",P4+N5))))","v":""},{"$f":"IF(Score!G14=\"N. P.\",\"\",IF(Score!E15=\"Ingen spillere gik Mahjong. Hånden gik ud!\",\"\",IF(Score!Y13=\"Selvtræk\",\"P\",\"\")))","v":""},{"$f":"IF(Score!E15=\"Ingen spillere gik Mahjong. Hånden gik ud!\",\"K\",\"\")","v":""},{"$f":"IF(R5=\"K\",\"\",Score!E15)","v":""}]
[3,{"$f":"IF(Score!$C$20,0,IF(SUM(Score!$U19:$X19)=0,\"\",IF(Score!F19<=0,Score!F19,CONCATENATE(\"+\",Score!F19))))","v":""},{"$f":"IF(Score!$G$19=\"N. P.\",\"\",\"/\")","v":""},{"$f":"IF(B6=\"\",\"\",IF(D5=\"\",\"\",IF(D5+B6<=0,D5+B6,CONCATENATE(\"+\",D5+B6))))","v":""},4,{"$f":"IF(Score!$C$20,0,IF(SUM(Score!$U19:$X19)=0,\"\",IF(Score!J19<=0,Score!J19,CONCATENATE(\"+\",Score!J19))))","v":""},{"$f":"IF(Score!$G$19=\"N. P.\",\"\",\"/\")","v":""},{"$f":"IF(F6=\"\",\"\",IF(H5=\"\",\"\",IF(H5+F6<=0,H5+F6,CONCATENATE(\"+\",H5+F6))))","v":""},1,{"$f":"IF(Score!$C$20,0,IF(SUM(Score!$U19:$X19)=0,\"\",IF(Score!N19<=0,Score!N19,CONCATENATE(\"+\",Score!N19))))","v":""},{"$f":"IF(Score!$G$19=\"N. P.\",\"\",\"/\")","v":""},{"$f":"IF(J6=\"\",\"\",IF(L5=\"\",\"\",IF(L5+J6<=0,L5+J6,CONCATENATE(\"+\",L5+J6))))","v":""},2,{"$f":"IF(Score!$C$20,0,IF(SUM(Score!$U19:$X19)=0,\"\",IF(Score!R19<=0,Score!R19,CONCATENATE(\"+\",Score!R19))))","v":""},{"$f":"IF(Score!$G$19=\"N. P.\",\"\",\"/\")","v":""},{"$f":"IF(N6=\"\",\"\",IF(P5=\"\",\"\",IF(P5+N6<=0,P5+N6,CONCATENATE(\"+\",P5+N6))))","v":""},{"$f":"IF(Score!G19=\"N. P.\",\"\",IF(Score!E20=\"Ingen spillere gik Mahjong. Hånden gik ud!\",\"\",IF(Score!Y18=\"Selvtræk\",\"P\",\"\")))","v":""},{"$f":"IF(Score!E20=\"Ingen spillere gik Mahjong. Hånden gik ud!\",\"K\",\"\")","v":""},{"$f":"IF(R6=\"K\",\"\",Score!E20)","v":""}]
[2,{"$f":"IF(Score!$C$25,0,IF(SUM(Score!$U24:$X24)=0,\"\",IF(Score!F24<=0,Score!F24,CONCATENATE(\"+\",Score!F24))))","v":""},{"$f":"IF(Score!$G$24=\"N. P.\",\"\",\"/\")","v":""},{"$f":"IF(B7=\"\",\"\",IF(D6=\"\",\"\",IF(D6+B7<=0,D6+B7,CONCATENATE(\"+\",D6+B7))))","v":""},3,{"$f":"IF(Score!$C$25,0,IF(SUM(Score!$U24:$X24)=0,\"\",IF(Score!J24<=0,Score!J24,CONCATENATE(\"+\",Score!J24))))","v":""},{"$f":"IF(Score!$G$24=\"N. P.\",\"\",\"/\")","v":""},{"$f":"IF(F7=\"\",\"\",IF(H6=\"\",\"\",IF(H6+F7<=0,H6+F7,CONCATENATE(\"+\",H6+F7))))","v":""},4,{"$f":"IF(Score!$C$25,0,IF(SUM(Score!$U24:$X24)=0,\"\",IF(Score!N24<=0,Score!N24,CONCATENATE(\"+\",Score!N24))))","v":""},{"$f":"IF(Score!$G$24=\"N. P.\",\"\",\"/\")","v":""},{"$f":"IF(J7=\"\",\"\",IF(L6=\"\",\"\",IF(L6+J7<=0,L6+J7,CONCATENATE(\"+\",L6+J7))))","v":""},1,{"$f":"IF(Score!$C$25,0,IF(SUM(Score!$U24:$X24)=0,\"\",IF(Score!R24<=0,Score!R24,CONCATENATE(\"+\",Score!R24))))","v":""},{"$f":"IF(Score!$G$24=\"N. P.\",\"\",\"/\")","v":""},{"$f":"IF(N7=\"\",\"\",IF(P6=\"\",\"\",IF(P6+N7<=0,P6+N7,CONCATENATE(\"+\",P6+N7))))","v":""},{"$f":"IF(Score!G24=\"N. P.\",\"\",IF(Score!E25=\"Ingen spillere gik Mahjong. Hånden gik ud!\",\"\",IF(Score!Y23=\"Selvtræk\",\"P\",\"\")))","v":""},{"$f":"IF(Score!E25=\"Ingen spillere gik Mahjong. Hånden gik ud!\",\"K\",\"\")","v":""},{"$f":"IF(R7=\"K\",\"\",Score!E25)","v":""}]
[null,null,null,null,null,null,null,null,null,null,null,null,null,null,null,null,null,{"$f":"IF(Score!C14,\"K\",\"\")","v":""}]
[1,{"$f":"IF(Score!$C$34,0,IF(SUM(Score!$U33:$X33)=0,\"\",IF(Score!F33<=0,Score!F33,CONCATENATE(\"+\",Score!F33))))","v":""},{"$f":"IF(Score!$G$33=\"N. P.\",\"\",\"/\")","v":""},{"$f":"IF(B9=\"\",\"\",IF(D7=\"\",\"\",IF(D7+B9<=0,D7+B9,CONCATENATE(\"+\",D7+B9))))","v":""},2,{"$f":"IF(Score!$C$34,0,IF(SUM(Score!$U33:$X33)=0,\"\",IF(Score!J33<=0,Score!J33,CONCATENATE(\"+\",Score!J33))))","v":""},{"$f":"IF(Score!$G$33=\"N. P.\",\"\",\"/\")","v":""},{"$f":"IF(F9=\"\",\"\",IF(H7=\"\",\"\",IF(H7+F9<=0,H7+F9,CONCATENATE(\"+\",H7+F9))))","v":""},3,{"$f":"IF(Score!$C$34,0,IF(SUM(Score!$U33:$X33)=0,\"\",IF(Score!N33<=0,Score!N33,CONCATENATE(\"+\",Score!N33))))","v":""},{"$f":"IF(Score!$G$33=\"N. P.\",\"\",\"/\")","v":""},{"$f":"IF(J9=\"\",\"\",IF(L7=\"\",\"\",IF(L7+J9<=0,L7+J9,CONCATENATE(\"+\",L7+J9))))","v":""},4,{"$f":"IF(Score!$C$34,0,IF(SUM(Score!$U33:$X33)=0,\"\",IF(Score!R33<=0,Score!R33,CONCATENATE(\"+\",Score!R33))))","v":""},{"$f":"IF(Score!$G$33=\"N. P.\",\"\",\"/\")","v":""},{"$f":"IF(N9=\"\",\"\",IF(P7=\"\",\"\",IF(P7+N9<=0,P7+N9,CONCATENATE(\"+\",P7+N9))))","v":""},{"$f":"IF(Score!G33=\"N. P.\",\"\",IF(Score!E34=\"Ingen spillere gik Mahjong. Hånden gik ud!\",\"\",IF(Score!Y32=\"Selvtræk\",\"P\",\"\")))","v":""},{"$f":"IF(Score!E34=\"Ingen spillere gik Mahjong. Hånden gik ud!\",\"K\",\"\")","v":""},{"$f":"IF(R9=\"K\",\"\",Score!E34)","v":""}]
[4,{"$f":"IF(Score!$C$39,0,IF(SUM(Score!$U38:$X38)=0,\"\",IF(Score!F38<=0,Score!F38,CONCATENATE(\"+\",Score!F38))))","v":""},{"$f":"IF(Score!$G$38=\"N. P.\",\"\",\"/\")","v":""},{"$f":"IF(B10=\"\",\"\",IF(D9=\"\",\"\",IF(D9+B10<=0,D9+B10,CONCATENATE(\"+\",D9+B10))))","v":""},1,{"$f":"IF(Score!$C$39,0,IF(SUM(Score!$U38:$X38)=0,\"\",IF(Score!J38<=0,Score!J38,CONCATENATE(\"+\",Score!J38))))","v":""},{"$f":"IF(Score!$G$38=\"N. P.\",\"\",\"/\")","v":""},{"$f":"IF(F10=\"\",\"\",IF(H9=\"\",\"\",IF(H9+F10<=0,H9+F10,CONCATENATE(\"+\",H9+F10))))","v":""},2,{"$f":"IF(Score!$C$39,0,IF(SUM(Score!$U38:$X38)=0,\"\",IF(Score!N38<=0,Score!N38,CONCATENATE(\"+\",Score!N38))))","v":""},{"$f":"IF(Score!$G$38=\"N. P.\",\"\",\"/\")","v":""},{"$f":"IF(J10=\"\",\"\",IF(L9=\"\",\"\",IF(L9+J10<=0,L9+J10,CONCATENATE(\"+\",L9+J10))))","v":""},3,{"$f":"IF(Score!$C$39,0,IF(SUM(Score!$U38:$X38)=0,\"\",IF(Score!R38<=0,Score!R38,CONCATENATE(\"+\",Score!R38))))","v":""},{"$f":"IF(Score!$G$38=\"N. P.\",\"\",\"/\")","v":""},{"$f":"IF(N10=\"\",\"\",IF(P9=\"\",\"\",IF(P9+N10<=0,P9+N10,CONCATENATE(\"+\",P9+N10))))","v":""},{"$f":"IF(Score!G38=\"N. P.\",\"\",IF(Score!E39=\"Ingen spillere gik Mahjong. Hånden gik ud!\",\"\",IF(Score!Y37=\"Selvtræk\",\"P\",\"\")))","v":""},{"$f":"IF(Score!E39=\"Ingen spillere gik Mahjong. Hånden gik ud!\",\"K\",\"\")","v":""},{"$f":"IF(R10=\"K\",\"\",Score!E39)","v":""}]
[3,{"$f":"IF(Score!$C$44,0,IF(SUM(Score!$U43:$X43)=0,\"\",IF(Score!F43<=0,Score!F43,CONCATENATE(\"+\",Score!F43))))","v":""},{"$f":"IF(Score!$G$43=\"N. P.\",\"\",\"/\")","v":""},"",4,{"$f":"IF(Score!$C$44,0,IF(SUM(Score!$U43:$X43)=0,\"\",IF(Score!J43<=0,Score!J43,CONCATENATE(\"+\",Score!J43))))","v":""},{"$f":"IF(Score!$G$43=\"N. P.\",\"\",\"/\")","v":""},"",1,{"$f":"IF(Score!$C$44,0,IF(SUM(Score!$U43:$X43)=0,\"\",IF(Score!N43<=0,Score!N43,CONCATENATE(\"+\",Score!N43))))","v":""},{"$f":"IF(Score!$G$43=\"N. P.\",\"\",\"/\")","v":""},"",2,{"$f":"IF(Score!$C$44,0,IF(SUM(Score!$U43:$X43)=0,\"\",IF(Score!R43<=0,Score!R43,CONCATENATE(\"+\",Score!R43))))","v":""},{"$f":"IF(Score!$G$43=\"N. P.\",\"\",\"/\")","v":""},"",{"$f":"IF(Score!G43=\"N. P.\",\"\",IF(Score!E44=\"Ingen spillere gik Mahjong. Hånden gik ud!\",\"\",IF(Score!Y42=\"Selvtræk\",\"P\",\"\")))","v":""},{"$f":"IF(Score!E44=\"Ingen spillere gik Mahjong. Hånden gik ud!\",\"K\",\"\")","v":""},{"$f":"IF(R11=\"K\",\"\",Score!E44)","v":""}]
[2,{"$f":"IF(Score!$C$49,0,IF(SUM(Score!$U48:$X48)=0,\"\",IF(Score!F48<=0,Score!F48,CONCATENATE(\"+\",Score!F48))))","v":""},{"$f":"IF(Score!$G$48=\"N. P.\",\"\",\"/\")","v":""},"",3,{"$f":"IF(Score!$C$49,0,IF(SUM(Score!$U48:$X48)=0,\"\",IF(Score!J48<=0,Score!J48,CONCATENATE(\"+\",Score!J48))))","v":""},{"$f":"IF(Score!$G$48=\"N. P.\",\"\",\"/\")","v":""},"",4,{"$f":"IF(Score!$C$49,0,IF(SUM(Score!$U48:$X48)=0,\"\",IF(Score!N48<=0,Score!N48,CONCATENATE(\"+\",Score!N48))))","v":""},{"$f":"IF(Score!$G$48=\"N. P.\",\"\",\"/\")","v":""},"",1,{"$f":"IF(Score!$C$49,0,IF(SUM(Score!$U48:$X48)=0,\"\",IF(Score!R48<=0,Score!R48,CONCATENATE(\"+\",Score!R48))))","v":""},{"$f":"IF(Score!$G$48=\"N. P.\",\"\",\"/\")","v":""},"",{"$f":"IF(Score!G48=\"N. P.\",\"\",IF(Score!E49=\"Ingen spillere gik Mahjong. Hånden gik ud!\",\"\",IF(Score!Y47=\"Selvtræk\",\"P\",\"\")))","v":""},{"$f":"IF(Score!E49=\"Ingen spillere gik Mahjong. Hånden gik ud!\",\"K\",\"\")","v":""},{"$f":"IF(R12=\"K\",\"\",Score!E49)","v":""}]
[]
[1,{"$f":"IF(Score!$C$62,0,IF(SUM(Score!$U61:$X61)=0,\"\",IF(Score!F61<=0,Score!F61,CONCATENATE(\"+\",Score!F61))))","v":""},{"$f":"IF(Score!$G$61=\"N. P.\",\"\",\"/\")","v":""},{"$f":"IF(B14=\"\",\"\",IF(D12=\"\",\"\",IF(D12+B14<=0,D12+B14,CONCATENATE(\"+\",D12+B14))))","v":""},2,{"$f":"IF(Score!$C$62,0,IF(SUM(Score!$U61:$X61)=0,\"\",IF(Score!J61<=0,Score!J61,CONCATENATE(\"+\",Score!J61))))","v":""},{"$f":"IF(Score!$G$61=\"N. P.\",\"\",\"/\")","v":""},{"$f":"IF(F14=\"\",\"\",IF(H12=\"\",\"\",IF(H12+F14<=0,H12+F14,CONCATENATE(\"+\",H12+F14))))","v":""},3,{"$f":"IF(Score!$C$62,0,IF(SUM(Score!$U61:$X61)=0,\"\",IF(Score!N61<=0,Score!N61,CONCATENATE(\"+\",Score!N61))))","v":""},{"$f":"IF(Score!$G$61=\"N. P.\",\"\",\"/\")","v":""},{"$f":"IF(J14=\"\",\"\",IF(L12=\"\",\"\",IF(L12+J14<=0,L12+J14,CONCATENATE(\"+\",L12+J14))))","v":""},4,{"$f":"IF(Score!$C$62,0,IF(SUM(Score!$U61:$X61)=0,\"\",IF(Score!R61<=0,Score!R61,CONCATENATE(\"+\",Score!R61))))","v":""},{"$f":"IF(Score!$G$61=\"N. P.\",\"\",\"/\")","v":""},{"$f":"IF(N14=\"\",\"\",IF(P12=\"\",\"\",IF(P12+N14<=0,P12+N14,CONCATENATE(\"+\",P12+N14))))","v":""},{"$f":"IF(Score!G61=\"N. P.\",\"\",IF(Score!E62=\"Ingen spillere gik Mahjong. Hånden gik ud!\",\"\",IF(Score!Y60=\"Selvtræk\",\"P\",\"\")))","v":""},{"$f":"IF(Score!E62=\"Ingen spillere gik Mahjong. Hånden gik ud!\",\"K\",\"\")","v":""},{"$f":"IF(R14=\"K\",\"\",Score!E62)","v":""}]
[4,{"$f":"IF(Score!$C$67,0,IF(SUM(Score!$U66:$X66)=0,\"\",IF(Score!F66<=0,Score!F66,CONCATENATE(\"+\",Score!F66))))","v":""},{"$f":"IF(Score!$G$66=\"N. P.\",\"\",\"/\")","v":""},{"$f":"IF(B15=\"\",\"\",IF(D14=\"\",\"\",IF(D14+B15<=0,D14+B15,CONCATENATE(\"+\",D14+B15))))","v":""},1,{"$f":"IF(Score!$C$67,0,IF(SUM(Score!$U66:$X66)=0,\"\",IF(Score!J66<=0,Score!J66,CONCATENATE(\"+\",Score!J66))))","v":""},{"$f":"IF(Score!$G$66=\"N. P.\",\"\",\"/\")","v":""},{"$f":"IF(F15=\"\",\"\",IF(H14=\"\",\"\",IF(H14+F15<=0,H14+F15,CONCATENATE(\"+\",H14+F15))))","v":""},2,{"$f":"IF(Score!$C$67,0,IF(SUM(Score!$U66:$X66)=0,\"\",IF(Score!N66<=0,Score!N66,CONCATENATE(\"+\",Score!N66))))","v":""},{"$f":"IF(Score!$G$66=\"N. P.\",\"\",\"/\")","v":""},{"$f":"IF(J15=\"\",\"\",IF(L14=\"\",\"\",IF(L14+J15<=0,L14+J15,CONCATENATE(\"+\",L14+J15))))","v":""},3,{"$f":"IF(Score!$C$67,0,IF(SUM(Score!$U66:$X66)=0,\"\",IF(Score!R66<=0,Score!R66,CONCATENATE(\"+\",Score!R66))))","v":""},{"$f":"IF(Score!$G$66=\"N. P.\",\"\",\"/\")","v":""},{"$f":"IF(N15=\"\",\"\",IF(P14=\"\",\"\",IF(P14+N15<=0,P14+N15,CONCATENATE(\"+\",P14+N15))))","v":""},{"$f":"IF(Score!G66=\"N. P.\",\"\",IF(Score!E67=\"Ingen spillere gik Mahjong. Hånden gik ud!\",\"\",IF(Score!Y65=\"Selvtræk\",\"P\",\"\")))","v":""},{"$f":"IF(Score!E67=\"Ingen spillere gik Mahjong. Hånden gik ud!\",\"K\",\"\")","v":""},{"$f":"IF(R15=\"K\",\"\",Score!E67)","v":""}]
[3,{"$f":"IF(Score!$C$72,0,IF(SUM(Score!$U71:$X71)=0,\"\",IF(Score!F71<=0,Score!F71,CONCATENATE(\"+\",Score!F71))))","v":""},{"$f":"IF(Score!$G$71=\"N. P.\",\"\",\"/\")","v":""},"",4,{"$f":"IF(Score!$C$72,0,IF(SUM(Score!$U71:$X71)=0,\"\",IF(Score!J71<=0,Score!J71,CONCATENATE(\"+\",Score!J71))))","v":""},{"$f":"IF(Score!$G$71=\"N. P.\",\"\",\"/\")","v":""},"",1,{"$f":"IF(Score!$C$72,0,IF(SUM(Score!$U71:$X71)=0,\"\",IF(Score!N71<=0,Score!N71,CONCATENATE(\"+\",Score!N71))))","v":""},{"$f":"IF(Score!$G$71=\"N. P.\",\"\",\"/\")","v":""},"",2,{"$f":"IF(Score!$C$72,0,IF(SUM(Score!$U71:$X71)=0,\"\",IF(Score!R71<=0,Score!R71,CONCATENATE(\"+\",Score!R71))))","v":""},{"$f":"IF(Score!$G$71=\"N. P.\",\"\",\"/\")","v":""},"",{"$f":"IF(Score!G71=\"N. P.\",\"\",IF(Score!E72=\"Ingen spillere gik Mahjong. Hånden gik ud!\",\"\",IF(Score!Y70=\"Selvtræk\",\"P\",\"\")))","v":""},{"$f":"IF(Score!E72=\"Ingen spillere gik Mahjong. Hånden gik ud!\",\"K\",\"\")","v":""},{"$f":"IF(R16=\"K\",\"\",Score!E72)","v":""}]
[2,{"$f":"IF(Score!$C$77,0,IF(SUM(Score!$U76:$X76)=0,\"\",IF(Score!F76<=0,Score!F76,CONCATENATE(\"+\",Score!F76))))","v":""},{"$f":"IF(Score!$G$76=\"N. P.\",\"\",\"/\")","v":""},"",3,{"$f":"IF(Score!$C$77,0,IF(SUM(Score!$U76:$X76)=0,\"\",IF(Score!J76<=0,Score!J76,CONCATENATE(\"+\",Score!J76))))","v":""},{"$f":"IF(Score!$G$76=\"N. P.\",\"\",\"/\")","v":""},"",4,{"$f":"IF(Score!$C$77,0,IF(SUM(Score!$U76:$X76)=0,\"\",IF(Score!N76<=0,Score!N76,CONCATENATE(\"+\",Score!N76))))","v":""},{"$f":"IF(Score!$G$76=\"N. P.\",\"\",\"/\")","v":""},"",1,{"$f":"IF(Score!$C$77,0,IF(SUM(Score!$U76:$X76)=0,\"\",IF(Score!R76<=0,Score!R76,CONCATENATE(\"+\",Score!R76))))","v":""},{"$f":"IF(Score!$G$76=\"N. P.\",\"\",\"/\")","v":""},"",{"$f":"IF(Score!G76=\"N. P.\",\"\",IF(Score!E77=\"Ingen spillere gik Mahjong. Hånden gik ud!\",\"\",IF(Score!Y75=\"Selvtræk\",\"P\",\"\")))","v":""},{"$f":"IF(Score!E77=\"Ingen spillere gik Mahjong. Hånden gik ud!\",\"K\",\"\")","v":""},{"$f":"IF(R17=\"K\",\"\",Score!E77)","v":""}]
[]
[1,{"$f":"IF(Score!$C$91,0,IF(SUM(Score!$U90:$X90)=0,\"\",IF(Score!F90<=0,Score!F90,CONCATENATE(\"+\",Score!F90))))","v":""},{"$f":"IF(Score!$G$61=\"N. P.\",\"\",\"/\")","v":""},{"$f":"IF(B19=\"\",\"\",IF(D17=\"\",\"\",IF(D17+B19<=0,D17+B19,CONCATENATE(\"+\",D17+B19))))","v":""},2,{"$f":"IF(Score!$C$91,0,IF(SUM(Score!$U90:$X90)=0,\"\",IF(Score!J90<=0,Score!J90,CONCATENATE(\"+\",Score!J90))))","v":""},{"$f":"IF(Score!$G$61=\"N. P.\",\"\",\"/\")","v":""},{"$f":"IF(F19=\"\",\"\",IF(H17=\"\",\"\",IF(H17+F19<=0,H17+F19,CONCATENATE(\"+\",H17+F19))))","v":""},3,{"$f":"IF(Score!$C$91,0,IF(SUM(Score!$U90:$X90)=0,\"\",IF(Score!N90<=0,Score!N90,CONCATENATE(\"+\",Score!N90))))","v":""},{"$f":"IF(Score!$G$61=\"N. P.\",\"\",\"/\")","v":""},{"$f":"IF(J19=\"\",\"\",IF(L17=\"\",\"\",IF(L17+J19<=0,L17+J19,CONCATENATE(\"+\",L17+J19))))","v":""},4,{"$f":"IF(Score!$C$91,0,IF(SUM(Score!$U90:$X90)=0,\"\",IF(Score!R90<=0,Score!R90,CONCATENATE(\"+\",Score!R90))))","v":""},{"$f":"IF(Score!$G$61=\"N. P.\",\"\",\"/\")","v":""},{"$f":"IF(N19=\"\",\"\",IF(P17=\"\",\"\",IF(P17+N19<=0,P17+N19,CONCATENATE(\"+\",P17+N19))))","v":""},{"$f":"IF(Score!G90=\"N. P.\",\"\",IF(Score!E91=\"Ingen spillere gik Mahjong. Hånden gik ud!\",\"\",IF(Score!Y89=\"Selvtræk\",\"P\",\"\")))","v":""},{"$f":"IF(Score!E91=\"Ingen spillere gik Mahjong. Hånden gik ud!\",\"K\",\"\")","v":""},{"$f":"IF(R19=\"K\",\"\",Score!E91)","v":""}]
[4,{"$f":"IF(Score!$C$96,0,IF(SUM(Score!$U95:$X95)=0,\"\",IF(Score!F95<=0,Score!F95,CONCATENATE(\"+\",Score!F95))))","v":""},{"$f":"IF(Score!$G$66=\"N. P.\",\"\",\"/\")","v":""},{"$f":"IF(B20=\"\",\"\",IF(D19=\"\",\"\",IF(D19+B20<=0,D19+B20,CONCATENATE(\"+\",D19+B20))))","v":""},1,{"$f":"IF(Score!$C$96,0,IF(SUM(Score!$U95:$X95)=0,\"\",IF(Score!J95<=0,Score!J95,CONCATENATE(\"+\",Score!J95))))","v":""},{"$f":"IF(Score!$G$66=\"N. P.\",\"\",\"/\")","v":""},{"$f":"IF(F20=\"\",\"\",IF(H19=\"\",\"\",IF(H19+F20<=0,H19+F20,CONCATENATE(\"+\",H19+F20))))","v":""},2,{"$f":"IF(Score!$C$96,0,IF(SUM(Score!$U95:$X95)=0,\"\",IF(Score!N95<=0,Score!N95,CONCATENATE(\"+\",Score!N95))))","v":""},{"$f":"IF(Score!$G$66=\"N. P.\",\"\",\"/\")","v":""},{"$f":"IF(J20=\"\",\"\",IF(L19=\"\",\"\",IF(L19+J20<=0,L19+J20,CONCATENATE(\"+\",L19+J20))))","v":""},3,{"$f":"IF(Score!$C$96,0,IF(SUM(Score!$U95:$X95)=0,\"\",IF(Score!R95<=0,Score!R95,CONCATENATE(\"+\",Score!R95))))","v":""},{"$f":"IF(Score!$G$66=\"N. P.\",\"\",\"/\")","v":""},{"$f":"IF(N20=\"\",\"\",IF(P19=\"\",\"\",IF(P19+N20<=0,P19+N20,CONCATENATE(\"+\",P19+N20))))","v":""},{"$f":"IF(Score!G95=\"N. P.\",\"\",IF(Score!E96=\"Ingen spillere gik Mahjong. Hånden gik ud!\",\"\",IF(Score!Y94=\"Selvtræk\",\"P\",\"\")))","v":""},{"$f":"IF(Score!E96=\"Ingen spillere gik Mahjong. Hånden gik ud!\",\"K\",\"\")","v":""},{"$f":"IF(R20=\"K\",\"\",Score!E96)","v":""}]
[3,{"$f":"IF(Score!$C$101,0,IF(SUM(Score!$U100:$X100)=0,\"\",IF(Score!F100<=0,Score!F100,CONCATENATE(\"+\",Score!F100))))","v":""},{"$f":"IF(Score!$G$71=\"N. P.\",\"\",\"/\")","v":""},"",4,{"$f":"IF(Score!$C$101,0,IF(SUM(Score!$U100:$X100)=0,\"\",IF(Score!J100<=0,Score!J100,CONCATENATE(\"+\",Score!J100))))","v":""},{"$f":"IF(Score!$G$71=\"N. P.\",\"\",\"/\")","v":""},"",1,{"$f":"IF(Score!$C$101,0,IF(SUM(Score!$U100:$X100)=0,\"\",IF(Score!N100<=0,Score!N100,CONCATENATE(\"+\",Score!N100))))","v":""},{"$f":"IF(Score!$G$71=\"N. P.\",\"\",\"/\")","v":""},"",2,{"$f":"IF(Score!$C$101,0,IF(SUM(Score!$U100:$X100)=0,\"\",IF(Score!R100<=0,Score!R100,CONCATENATE(\"+\",Score!R100))))","v":""},{"$f":"IF(Score!$G$71=\"N. P.\",\"\",\"/\")","v":""},"",{"$f":"IF(Score!G100=\"N. P.\",\"\",IF(Score!E101=\"Ingen spillere gik Mahjong. Hånden gik ud!\",\"\",IF(Score!Y99=\"Selvtræk\",\"P\",\"\")))","v":""},{"$f":"IF(Score!E101=\"Ingen spillere gik Mahjong. Hånden gik ud!\",\"K\",\"\")","v":""},{"$f":"IF(R21=\"K\",\"\",Score!E101)","v":""}]
[2,{"$f":"IF(Score!$C$106,0,IF(SUM(Score!$U105:$X105)=0,\"\",IF(Score!F105<=0,Score!F105,CONCATENATE(\"+\",Score!F105))))","v":""},{"$f":"IF(Score!$G$76=\"N. P.\",\"\",\"/\")","v":""},"",3,{"$f":"IF(Score!$C$106,0,IF(SUM(Score!$U105:$X105)=0,\"\",IF(Score!J105<=0,Score!J105,CONCATENATE(\"+\",Score!J105))))","v":""},{"$f":"IF(Score!$G$76=\"N. P.\",\"\",\"/\")","v":""},"",4,{"$f":"IF(Score!$C$106,0,IF(SUM(Score!$U105:$X105)=0,\"\",IF(Score!N105<=0,Score!N105,CONCATENATE(\"+\",Score!N105))))","v":""},{"$f":"IF(Score!$G$76=\"N. P.\",\"\",\"/\")","v":""},"",1,{"$f":"IF(Score!$C$106,0,IF(SUM(Score!$U105:$X105)=0,\"\",IF(Score!R105<=0,Score!R105,CONCATENATE(\"+\",Score!R105))))","v":""},{"$f":"IF(Score!$G$76=\"N. P.\",\"\",\"/\")","v":""},"",{"$f":"IF(Score!G105=\"N. P.\",\"\",IF(Score!E106=\"Ingen spillere gik Mahjong. Hånden gik ud!\",\"\",IF(Score!Y104=\"Selvtræk\",\"P\",\"\")))","v":""},{"$f":"IF(Score!E106=\"Ingen spillere gik Mahjong. Hånden gik ud!\",\"K\",\"\")","v":""},{"$f":"IF(R22=\"K\",\"\",Score!E106)","v":""}]